Workbook
Name _GoBack: Прилож!$B$2496
Name мп: #REF!
Name Перечень: #REF!
Name Перечень2: #REF!
Name Перечень3: #REF!

Sheet Прилож
N1: Приложение к распоряжению Правительства Смоленской области от 21.07.2025 № 975-рп (в редакции распоряжений Правительства Смоленской области от 03.10.2025 № 1349-рп, от 10.03.2026 № 233-рп, от 10.06.2026 № 668-рп, от 28.07.2026 № 927-рп, от 29.10.2026 № 1309-рп)
A4: КРАТКОСРОЧНЫЙ ПЛАН реализации Региональной программы капитального ремонта общего имущества в многоквартирных домах, расположенных на территории Смоленской области, на 2014-2055 годы на 2026-2028 годы
A6: Раздел 1. Перечень многоквартирных домов, в отношении которых планируется проведение капитального ремонта общего имущества
A8: № п/п | B8: Адрес многоквартирного дома (далее - МКД) | C8: Год | E8: Материал стен | F8: Количество этажей | G8: Количество подъездов | H8: Общая площадь МКД, всего | I8: Площадь помещений МКД | K8: Стоимость капитального ремонта | P8: Удельная стоимость капитального ремонта 1 кв. м общей площади помещений МКД | Q8: Предельная стоимость капитального ремонта 1 кв. м общей площади помещений МКД | R8: Плановая дата завершения работ
C9: ввода в эксплуатацию | D9: завершения последнего капитального ремонта | I9: нежилых | J9: жилых | K9: всего | L9: в том числе
L10: за счет средств Фонда содействия реформированию ЖКХ | M10: за счет средств областного бюджета | N10: за счет средств местного бюджета | O10: за счет средств собственников помещений в МКД
H11: кв. м | I11: кв. м | J11: кв. м | K11: руб. | L11: руб. | M11: руб. | N11: руб. | O11: руб. | P11: руб./кв. м | Q11: руб./кв. м
A12: 1 | B12: 2 | C12: 3 | D12: 4 | E12: 5 | F12: 6 | G12: 7 | H12: 8 | I12: 9 | J12: 10 | K12: 11 | L12: 12 | M12: 13 | N12: 14 | O12: 15 | P12: 16 | Q12: 17 | R12: 18
A13: Итого по Смоленской области | C13: х | D13: х | E13: х | F13: х | G13: х | H13: =H15+H37+H266+H350+H355+H383+H447+H525+H554+H603+H612+H638+H674+H707+H718+H814+H943+H1028+H1186+H2454+H2586+H2631+H2636+H2661+H2678+H2695+H2728 -> 7461730.2 | I13: =I15+I37+I266+I350+I355+I383+I447+I525+I554+I603+I612+I638+I674+I707+I718+I814+I943+I1028+I1186+I2454+I2586+I2631+I2636+I2661+I2678+I2695+I2728 -> 239239.05 | J13: =J15+J37+J266+J350+J355+J383+J447+J525+J554+J603+J612+J638+J674+J707+J718+J814+J943+J1028+J1186+J2454+J2586+J2631+J2636+J2661+J2678+J2695+J2728 -> 5639339.3 | K13: =K15+K37+K266+K350+K355+K383+K447+K525+K554+K603+K612+K638+K674+K707+K718+K814+K943+K1028+K1186+K2454+K2586+K2631+K2636+K2661+K2678+K2695+K2728 -> 2.3135388e+10 | L13: =L15+L37+L266+L350+L355+L383+L447+L525+L554+L603+L612+L638+L674+L707+L718+L814+L943+L1028+L1186+L2454+L2586+L2631+L2636+L2661+L2678+L2695+L2728 -> 0 | M13: =M15+M37+M266+M350+M355+M383+M447+M525+M554+M603+M612+M638+M674+M707+M718+M814+M943+M1028+M1186+M2454+M2586+M2631+M2636+M2661+M2678+M2695+M2728 -> 0 | N13: =N15+N37+N266+N350+N355+N383+N447+N525+N554+N603+N612+N638+N674+N707+N718+N814+N943+N1028+N1186+N2454+N2586+N2631+N2636+N2661+N2678+N2695+N2728 -> 0 | O13: =O15+O37+O266+O350+O355+O383+O447+O525+O554+O603+O612+O638+O674+O707+O718+O814+O943+O1028+O1186+O2454+O2586+O2631+O2636+O2661+O2678+O2695+O2728 -> 2.3135388e+10 | P13: =K13/H13 -> 3100.5394 | Q13: х | R13: х
A14: 1. Муниципальное образование «Велижский муниципальный округ» Смоленской области
A15: Итого по муниципальному образованию «Велижский муниципальный округ» Смоленской области | C15: х | D15: х | E15: х | F15: х | G15: х | H15: =SUM(H16:H35) -> 11263.62 | I15: =SUM(I16:I35) -> 901.8 | J15: =SUM(J16:J35) -> 8165.3 | K15: =SUM(K16:K35) -> 90617261 | L15: =SUM(L16:L35) -> 0 | M15: =SUM(M16:M35) -> 0 | N15: =SUM(N16:N35) -> 0 | O15: =SUM(O16:O35) -> 90617261 | P15: =K15/H15 -> 8045.1277 | Q15: х | R15: х
A16: 1 | B16: Г. Велиж, пер. Красноармейский, д. 1 | C16: 1971 | D16: - | E16: кирпич | F16: 2 | G16: 3 | H16: 509.3 | I16: 0 | J16: 509.3 | K16: =SUM(L16:O16) -> 64675.24 | L16: 0 | M16: 0 | N16: 0 | O16: =IFERROR( IF(LOOKUP(2,1/($R$16:$R16<>""),$R$16:$R16)="12.2026", VLOOKUP(LOOKUP(2,1/($B$16:$B16<>""),$B$16:$B16), [1]Лист1!$C$12:$D$1205, 2, 0), IF(LOOKUP(2,1/($R$16:$R16<>""),$R$16:$R16)="12.2027", VLOOKUP(LOOKUP(2,1/($B$16:$B16<>""),$B$16:$B16), [1]Лист1!$C$1209:$D$2016, 2, 0), IF(LOOKUP(2,1/($R$16:$R16<>""),$R$16:$R16)="12.2028", VLOOKUP(LOOKUP(2,1/($B$16:$B16<>""),$B$16:$B16), [1]Лист1!$C$2020:$D$2907, 2, 0), ""))), "") -> 64675.24 | P16: =K16/H16 -> 126.98849 | Q16: 9673 | R16: 12.2027
A17: =IF(B17<>"",MAX(A$1:A16)+1,"") -> 2 | B17: Г. Велиж, ул. Володарского, д. 167 | C17: 1982 | D17: - | E17: кирпич | F17: 2 | G17: 3 | H17: 858.2 | I17: 0 | J17: 858.2 | K17: =SUM(L17:O17) -> 3053200.6 | L17: 0 | M17: 0 | N17: 0 | O17: =IFERROR( IF(LOOKUP(2,1/($R$16:$R17<>""),$R$16:$R17)="12.2026", VLOOKUP(LOOKUP(2,1/($B$16:$B17<>""),$B$16:$B17), [1]Лист1!$C$12:$D$1205, 2, 0), IF(LOOKUP(2,1/($R$16:$R17<>""),$R$16:$R17)="12.2027", VLOOKUP(LOOKUP(2,1/($B$16:$B17<>""),$B$16:$B17), [1]Лист1!$C$1209:$D$2016, 2, 0), IF(LOOKUP(2,1/($R$16:$R17<>""),$R$16:$R17)="12.2028", VLOOKUP(LOOKUP(2,1/($B$16:$B17<>""),$B$16:$B17), [1]Лист1!$C$2020:$D$2907, 2, 0), ""))), "") -> 3053200.6 | P17: =K17/H17 -> 3557.6796 | Q17: 9673 | R17: 12.2028
A18: =IF(B18<>"",MAX(A$1:A17)+1,"") -> 3 | B18: Г. Велиж, ул. Володарского, д. 171 | C18: 1988 | D18: - | E18: ж/б панели | F18: 3 | G18: 2 | H18: 733.3 | I18: 431 | J18: 302.3 | K18: =SUM(L18:O18) -> 3885450.3 | L18: 0 | M18: 0 | N18: 0 | O18: =IFERROR( IF(LOOKUP(2,1/($R$16:$R18<>""),$R$16:$R18)="12.2026", VLOOKUP(LOOKUP(2,1/($B$16:$B18<>""),$B$16:$B18), [1]Лист1!$C$12:$D$1205, 2, 0), IF(LOOKUP(2,1/($R$16:$R18<>""),$R$16:$R18)="12.2027", VLOOKUP(LOOKUP(2,1/($B$16:$B18<>""),$B$16:$B18), [1]Лист1!$C$1209:$D$2016, 2, 0), IF(LOOKUP(2,1/($R$16:$R18<>""),$R$16:$R18)="12.2028", VLOOKUP(LOOKUP(2,1/($B$16:$B18<>""),$B$16:$B18), [1]Лист1!$C$2020:$D$2907, 2, 0), ""))), "") -> 3885450.3 | P18: 1403.25 | Q18: 9673 | R18: 12.2026
A19: =IF(B19<>"",MAX(A$1:A18)+1,"") -> 4 | B19: Г. Велиж, ул. Еременко, д. 25 | C19: 1972 | D19: - | E19: кирпич | F19: 2 | G19: 2 | H19: 377.6 | I19: 0 | J19: 377.6 | K19: =SUM(L19:O19) -> 50274.18 | L19: 0 | M19: 0 | N19: 0 | O19: =IFERROR( IF(LOOKUP(2,1/($R$16:$R19<>""),$R$16:$R19)="12.2026", VLOOKUP(LOOKUP(2,1/($B$16:$B19<>""),$B$16:$B19), [1]Лист1!$C$12:$D$1205, 2, 0), IF(LOOKUP(2,1/($R$16:$R19<>""),$R$16:$R19)="12.2027", VLOOKUP(LOOKUP(2,1/($B$16:$B19<>""),$B$16:$B19), [1]Лист1!$C$1209:$D$2016, 2, 0), IF(LOOKUP(2,1/($R$16:$R19<>""),$R$16:$R19)="12.2028", VLOOKUP(LOOKUP(2,1/($B$16:$B19<>""),$B$16:$B19), [1]Лист1!$C$2020:$D$2907, 2, 0), ""))), "") -> 50274.18 | P19: =K19/H19 -> 133.14137 | Q19: 9673 | R19: 12.2027
A20: =IF(B20<>"",MAX(A$1:A19)+1,"") -> 5 | B20: Г. Велиж, ул. Еременко, д. 27 | C20: 1969 | D20: - | E20: кирпич | F20: 2 | G20: 2 | H20: 387.2 | I20: 0 | J20: 387.2 | K20: =SUM(L20:O20) -> 5864444.8 | L20: 0 | M20: 0 | N20: 0 | O20: =IFERROR( IF(LOOKUP(2,1/($R$16:$R20<>""),$R$16:$R20)="12.2026", VLOOKUP(LOOKUP(2,1/($B$16:$B20<>""),$B$16:$B20), [1]Лист1!$C$12:$D$1205, 2, 0), IF(LOOKUP(2,1/($R$16:$R20<>""),$R$16:$R20)="12.2027", VLOOKUP(LOOKUP(2,1/($B$16:$B20<>""),$B$16:$B20), [1]Лист1!$C$1209:$D$2016, 2, 0), IF(LOOKUP(2,1/($R$16:$R20<>""),$R$16:$R20)="12.2028", VLOOKUP(LOOKUP(2,1/($B$16:$B20<>""),$B$16:$B20), [1]Лист1!$C$2020:$D$2907, 2, 0), ""))), "") -> 5864444.8 | P20: =K20/H20 -> 15145.777 | Q20: 9673 | R20: 12.2028
A21: =IF(B21<>"",MAX(A$1:A20)+1,"") -> 6 | B21: Г. Велиж, ул. Еременко, д. 29 | C21: 1973 | D21: - | E21: кирпич | F21: 2 | G21: 2 | H21: 530.9 | I21: 0 | J21: 530.9 | K21: =SUM(L21:O21) -> 67037.15 | L21: 0 | M21: 0 | N21: 0 | O21: =IFERROR( IF(LOOKUP(2,1/($R$16:$R21<>""),$R$16:$R21)="12.2026", VLOOKUP(LOOKUP(2,1/($B$16:$B21<>""),$B$16:$B21), [1]Лист1!$C$12:$D$1205, 2, 0), IF(LOOKUP(2,1/($R$16:$R21<>""),$R$16:$R21)="12.2027", VLOOKUP(LOOKUP(2,1/($B$16:$B21<>""),$B$16:$B21), [1]Лист1!$C$1209:$D$2016, 2, 0), IF(LOOKUP(2,1/($R$16:$R21<>""),$R$16:$R21)="12.2028", VLOOKUP(LOOKUP(2,1/($B$16:$B21<>""),$B$16:$B21), [1]Лист1!$C$2020:$D$2907, 2, 0), ""))), "") -> 67037.15 | P21: =K21/H21 -> 126.27077 | Q21: 9673 | R21: 12.2027
A22: =IF(B22<>"",MAX(A$1:A21)+1,"") -> 7 | B22: Г. Велиж, ул. Ивановская, д. 3 | C22: 1971 | D22: - | E22: кирпич | F22: 2 | G22: 2 | H22: 377.6 | I22: 0 | J22: 377.6 | K22: =SUM(L22:O22) -> 5676304.4 | L22: 0 | M22: 0 | N22: 0 | O22: =IFERROR( IF(LOOKUP(2,1/($R$16:$R22<>""),$R$16:$R22)="12.2026", VLOOKUP(LOOKUP(2,1/($B$16:$B22<>""),$B$16:$B22), [1]Лист1!$C$12:$D$1205, 2, 0), IF(LOOKUP(2,1/($R$16:$R22<>""),$R$16:$R22)="12.2027", VLOOKUP(LOOKUP(2,1/($B$16:$B22<>""),$B$16:$B22), [1]Лист1!$C$1209:$D$2016, 2, 0), IF(LOOKUP(2,1/($R$16:$R22<>""),$R$16:$R22)="12.2028", VLOOKUP(LOOKUP(2,1/($B$16:$B22<>""),$B$16:$B22), [1]Лист1!$C$2020:$D$2907, 2, 0), ""))), "") -> 5676304.4 | P22: =K22/H22 -> 15032.586 | Q22: 9673 | R22: 12.2028
A23: =IF(B23<>"",MAX(A$1:A22)+1,"") -> 8 | B23: Г. Велиж, ул. Ивановская, д. 5 | C23: 1972 | D23: - | E23: ж/б плиты | F23: 2 | G23: 2 | H23: 399.79 | I23: 0 | J23: 399.79 | K23: =SUM(L23:O23) -> 5709265 | L23: 0 | M23: 0 | N23: 0 | O23: =IFERROR( IF(LOOKUP(2,1/($R$16:$R23<>""),$R$16:$R23)="12.2026", VLOOKUP(LOOKUP(2,1/($B$16:$B23<>""),$B$16:$B23), [1]Лист1!$C$12:$D$1205, 2, 0), IF(LOOKUP(2,1/($R$16:$R23<>""),$R$16:$R23)="12.2027", VLOOKUP(LOOKUP(2,1/($B$16:$B23<>""),$B$16:$B23), [1]Лист1!$C$1209:$D$2016, 2, 0), IF(LOOKUP(2,1/($R$16:$R23<>""),$R$16:$R23)="12.2028", VLOOKUP(LOOKUP(2,1/($B$16:$B23<>""),$B$16:$B23), [1]Лист1!$C$2020:$D$2907, 2, 0), ""))), "") -> 5709265 | P23: =K23/H23 -> 14280.66 | Q23: 9673 | R23: 12.2028
A24: =IF(B24<>"",MAX(A$1:A23)+1,"") -> 9 | B24: Г. Велиж, ул. Ивановская, д. 11 | C24: 1969 | D24: - | E24: кирпич | F24: 2 | G24: 2 | H24: 751.8 | I24: 0 | J24: 377.6 | K24: =SUM(L24:O24) -> 9668806.2 | L24: 0 | M24: 0 | N24: 0 | O24: =IFERROR( IF(LOOKUP(2,1/($R$16:$R24<>""),$R$16:$R24)="12.2026", VLOOKUP(LOOKUP(2,1/($B$16:$B24<>""),$B$16:$B24), [1]Лист1!$C$12:$D$1205, 2, 0), IF(LOOKUP(2,1/($R$16:$R24<>""),$R$16:$R24)="12.2027", VLOOKUP(LOOKUP(2,1/($B$16:$B24<>""),$B$16:$B24), [1]Лист1!$C$1209:$D$2016, 2, 0), IF(LOOKUP(2,1/($R$16:$R24<>""),$R$16:$R24)="12.2028", VLOOKUP(LOOKUP(2,1/($B$16:$B24<>""),$B$16:$B24), [1]Лист1!$C$2020:$D$2907, 2, 0), ""))), "") -> 9668806.2 | P24: =K24/H24 -> 12860.875 | Q24: 9673 | R24: 12.2028
A25: =IF(B25<>"",MAX(A$1:A24)+1,"") -> 10 | B25: Г. Велиж, ул. Ивановская, д. 27 | C25: 1969 | D25: - | E25: кирпич | F25: 3 | G25: 2 | H25: 732.8 | I25: 0 | J25: 399.79 | K25: =SUM(L25:O25) -> 9047574.2 | L25: 0 | M25: 0 | N25: 0 | O25: =IFERROR( IF(LOOKUP(2,1/($R$16:$R25<>""),$R$16:$R25)="12.2026", VLOOKUP(LOOKUP(2,1/($B$16:$B25<>""),$B$16:$B25), [1]Лист1!$C$12:$D$1205, 2, 0), IF(LOOKUP(2,1/($R$16:$R25<>""),$R$16:$R25)="12.2027", VLOOKUP(LOOKUP(2,1/($B$16:$B25<>""),$B$16:$B25), [1]Лист1!$C$1209:$D$2016, 2, 0), IF(LOOKUP(2,1/($R$16:$R25<>""),$R$16:$R25)="12.2028", VLOOKUP(LOOKUP(2,1/($B$16:$B25<>""),$B$16:$B25), [1]Лист1!$C$2020:$D$2907, 2, 0), ""))), "") -> 9047574.2 | P25: =K25/H25 -> 12346.581 | Q25: 9673 | R25: 12.2028
A26: =IF(B26<>"",MAX(A$1:A25)+1,"") -> 11 | B26: Г. Велиж, ул. Казанская, д. 12 | C26: 1985 | D26: - | E26: кирпич | F26: 2 | G26: 2 | H26: 578.3 | I26: 0 | J26: 578.3 | K26: =SUM(L26:O26) -> 2136560 | L26: 0 | M26: 0 | N26: 0 | O26: =IFERROR( IF(LOOKUP(2,1/($R$16:$R26<>""),$R$16:$R26)="12.2026", VLOOKUP(LOOKUP(2,1/($B$16:$B26<>""),$B$16:$B26), [1]Лист1!$C$12:$D$1205, 2, 0), IF(LOOKUP(2,1/($R$16:$R26<>""),$R$16:$R26)="12.2027", VLOOKUP(LOOKUP(2,1/($B$16:$B26<>""),$B$16:$B26), [1]Лист1!$C$1209:$D$2016, 2, 0), IF(LOOKUP(2,1/($R$16:$R26<>""),$R$16:$R26)="12.2028", VLOOKUP(LOOKUP(2,1/($B$16:$B26<>""),$B$16:$B26), [1]Лист1!$C$2020:$D$2907, 2, 0), ""))), "") -> 2136560 | P26: =K26/H26 -> 3694.553 | Q26: 9673 | R26: 12.2028
A27: =IF(B27<>"",MAX(A$1:A26)+1,"") -> 12 | B27: Г. Велиж, ул. Кропоткина, д. 13/10 | C27: 1962 | D27: - | E27: кирпич | F27: 2 | G27: 1 | H27: 305.2 | I27: 0 | J27: 305.2 | K27: =SUM(L27:O27) -> 1377892.3 | L27: 0 | M27: 0 | N27: 0 | O27: =IFERROR( IF(LOOKUP(2,1/($R$16:$R27<>""),$R$16:$R27)="12.2026", VLOOKUP(LOOKUP(2,1/($B$16:$B27<>""),$B$16:$B27), [1]Лист1!$C$12:$D$1205, 2, 0), IF(LOOKUP(2,1/($R$16:$R27<>""),$R$16:$R27)="12.2027", VLOOKUP(LOOKUP(2,1/($B$16:$B27<>""),$B$16:$B27), [1]Лист1!$C$1209:$D$2016, 2, 0), IF(LOOKUP(2,1/($R$16:$R27<>""),$R$16:$R27)="12.2028", VLOOKUP(LOOKUP(2,1/($B$16:$B27<>""),$B$16:$B27), [1]Лист1!$C$2020:$D$2907, 2, 0), ""))), "") -> 1377892.3 | P27: =K27/H27 -> 4514.7193 | Q27: 9673 | R27: 12.2027
A28: =IF(B28<>"",MAX(A$1:A27)+1,"") -> 13 | B28: Г. Велиж, ул. Кропоткина, д. 23/13 | C28: 1965 | D28: - | E28: кирпич | F28: 3 | G28: 2 | H28: 1221.1 | I28: 0 | J28: 679.9 | K28: =SUM(L28:O28) -> 4719486.4 | L28: 0 | M28: 0 | N28: 0 | O28: =IFERROR( IF(LOOKUP(2,1/($R$16:$R28<>""),$R$16:$R28)="12.2026", VLOOKUP(LOOKUP(2,1/($B$16:$B28<>""),$B$16:$B28), [1]Лист1!$C$12:$D$1205, 2, 0), IF(LOOKUP(2,1/($R$16:$R28<>""),$R$16:$R28)="12.2027", VLOOKUP(LOOKUP(2,1/($B$16:$B28<>""),$B$16:$B28), [1]Лист1!$C$1209:$D$2016, 2, 0), IF(LOOKUP(2,1/($R$16:$R28<>""),$R$16:$R28)="12.2028", VLOOKUP(LOOKUP(2,1/($B$16:$B28<>""),$B$16:$B28), [1]Лист1!$C$2020:$D$2907, 2, 0), ""))), "") -> 4719486.4 | P28: =K28/H28 -> 3864.9467 | Q28: 9673 | R28: 12.2027
A29: =IF(B29<>"",MAX(A$1:A28)+1,"") -> 14 | B29: Г. Велиж, ул. Кропоткина, д. 33 | C29: 1975 | D29: - | E29: кирпич | F29: 3 | G29: 2 | H29: 745.8 | I29: 261.8 | J29: 236.42 | K29: =SUM(L29:O29) -> 4772450 | L29: 0 | M29: 0 | N29: 0 | O29: =IFERROR( IF(LOOKUP(2,1/($R$16:$R29<>""),$R$16:$R29)="12.2026", VLOOKUP(LOOKUP(2,1/($B$16:$B29<>""),$B$16:$B29), [1]Лист1!$C$12:$D$1205, 2, 0), IF(LOOKUP(2,1/($R$16:$R29<>""),$R$16:$R29)="12.2027", VLOOKUP(LOOKUP(2,1/($B$16:$B29<>""),$B$16:$B29), [1]Лист1!$C$1209:$D$2016, 2, 0), IF(LOOKUP(2,1/($R$16:$R29<>""),$R$16:$R29)="12.2028", VLOOKUP(LOOKUP(2,1/($B$16:$B29<>""),$B$16:$B29), [1]Лист1!$C$2020:$D$2907, 2, 0), ""))), "") -> 4772450 | P29: =K29/H29 -> 6399.1016 | Q29: 9673 | R29: 12.2028
A30: =IF(B30<>"",MAX(A$1:A29)+1,"") -> 15 | B30: Г. Велиж, ул. Советская, д. 13 | C30: 1949 | D30: - | E30: кирпич | F30: 2 | G30: 1 | H30: 556.7 | I30: 13 | J30: 296.6 | K30: =SUM(L30:O30) -> 6311195.5 | L30: 0 | M30: 0 | N30: 0 | O30: =IFERROR( IF(LOOKUP(2,1/($R$16:$R30<>""),$R$16:$R30)="12.2026", VLOOKUP(LOOKUP(2,1/($B$16:$B30<>""),$B$16:$B30), [1]Лист1!$C$12:$D$1205, 2, 0), IF(LOOKUP(2,1/($R$16:$R30<>""),$R$16:$R30)="12.2027", VLOOKUP(LOOKUP(2,1/($B$16:$B30<>""),$B$16:$B30), [1]Лист1!$C$1209:$D$2016, 2, 0), IF(LOOKUP(2,1/($R$16:$R30<>""),$R$16:$R30)="12.2028", VLOOKUP(LOOKUP(2,1/($B$16:$B30<>""),$B$16:$B30), [1]Лист1!$C$2020:$D$2907, 2, 0), ""))), "") -> 6311195.5 | P30: =K30/H30 -> 11336.798 | Q30: 9673 | R30: 12.2026
A31: =IF(B31<>"",MAX(A$1:A30)+1,"") -> 16 | B31: Г. Велиж, ул. Советская, д. 23/10 | C31: 1970 | D31: - | E31: кирпич | F31: 2 | G31: 1 | H31: 384.9 | I31: 196 | J31: 188.5 | K31: =SUM(L31:O31) -> 8151000.6 | L31: 0 | M31: 0 | N31: 0 | O31: =IFERROR( IF(LOOKUP(2,1/($R$16:$R31<>""),$R$16:$R31)="12.2026", VLOOKUP(LOOKUP(2,1/($B$16:$B31<>""),$B$16:$B31), [1]Лист1!$C$12:$D$1205, 2, 0), IF(LOOKUP(2,1/($R$16:$R31<>""),$R$16:$R31)="12.2027", VLOOKUP(LOOKUP(2,1/($B$16:$B31<>""),$B$16:$B31), [1]Лист1!$C$1209:$D$2016, 2, 0), IF(LOOKUP(2,1/($R$16:$R31<>""),$R$16:$R31)="12.2028", VLOOKUP(LOOKUP(2,1/($B$16:$B31<>""),$B$16:$B31), [1]Лист1!$C$2020:$D$2907, 2, 0), ""))), "") -> 8151000.6 | P31: 4100 | Q31: 9673 | R31: 12.2026
A32: =IF(B32<>"",MAX(A$1:A31)+1,"") -> 17 | B32: Г. Велиж, ул. Советская, д. 26 | C32: 1960 | D32: - | E32: кирпич | F32: 2 | G32: 1 | H32: 380.9 | I32: 0 | J32: 230.2 | K32: =SUM(L32:O32) -> 5753037.7 | L32: 0 | M32: 0 | N32: 0 | O32: =IFERROR( IF(LOOKUP(2,1/($R$16:$R32<>""),$R$16:$R32)="12.2026", VLOOKUP(LOOKUP(2,1/($B$16:$B32<>""),$B$16:$B32), [1]Лист1!$C$12:$D$1205, 2, 0), IF(LOOKUP(2,1/($R$16:$R32<>""),$R$16:$R32)="12.2027", VLOOKUP(LOOKUP(2,1/($B$16:$B32<>""),$B$16:$B32), [1]Лист1!$C$1209:$D$2016, 2, 0), IF(LOOKUP(2,1/($R$16:$R32<>""),$R$16:$R32)="12.2028", VLOOKUP(LOOKUP(2,1/($B$16:$B32<>""),$B$16:$B32), [1]Лист1!$C$2020:$D$2907, 2, 0), ""))), "") -> 5753037.7 | P32: =K32/H32 -> 15103.801 | Q32: 9673 | R32: 12.2026
A33: =IF(B33<>"",MAX(A$1:A32)+1,"") -> 18 | B33: Г. Велиж, ул. Энгельса, д. 14 | C33: 1973 | D33: - | E33: кирпич | F33: 2 | G33: 1 | H33: 320.1 | I33: 0 | J33: 320.1 | K33: =SUM(L33:O33) -> 4469570.4 | L33: 0 | M33: 0 | N33: 0 | O33: =IFERROR( IF(LOOKUP(2,1/($R$16:$R33<>""),$R$16:$R33)="12.2026", VLOOKUP(LOOKUP(2,1/($B$16:$B33<>""),$B$16:$B33), [1]Лист1!$C$12:$D$1205, 2, 0), IF(LOOKUP(2,1/($R$16:$R33<>""),$R$16:$R33)="12.2027", VLOOKUP(LOOKUP(2,1/($B$16:$B33<>""),$B$16:$B33), [1]Лист1!$C$1209:$D$2016, 2, 0), IF(LOOKUP(2,1/($R$16:$R33<>""),$R$16:$R33)="12.2028", VLOOKUP(LOOKUP(2,1/($B$16:$B33<>""),$B$16:$B33), [1]Лист1!$C$2020:$D$2907, 2, 0), ""))), "") -> 4469570.4 | P33: =K33/H33 -> 13963.044 | Q33: 9673 | R33: 12.2028
A34: =IF(B34<>"",MAX(A$1:A33)+1,"") -> 19 | B34: Г. Велиж, ул. Энгельса, д. 168 | C34: 1976 | D34: - | E34: кирпич | F34: 2 | G34: 2 | H34: 767.83 | I34: 0 | J34: 465.5 | K34: =SUM(L34:O34) -> 4841591.7 | L34: 0 | M34: 0 | N34: 0 | O34: =IFERROR( IF(LOOKUP(2,1/($R$16:$R34<>""),$R$16:$R34)="12.2026", VLOOKUP(LOOKUP(2,1/($B$16:$B34<>""),$B$16:$B34), [1]Лист1!$C$12:$D$1205, 2, 0), IF(LOOKUP(2,1/($R$16:$R34<>""),$R$16:$R34)="12.2027", VLOOKUP(LOOKUP(2,1/($B$16:$B34<>""),$B$16:$B34), [1]Лист1!$C$1209:$D$2016, 2, 0), IF(LOOKUP(2,1/($R$16:$R34<>""),$R$16:$R34)="12.2028", VLOOKUP(LOOKUP(2,1/($B$16:$B34<>""),$B$16:$B34), [1]Лист1!$C$2020:$D$2907, 2, 0), ""))), "") -> 4841591.7 | P34: =K34/H34 -> 6305.5516 | Q34: 9673 | R34: 12.2026
A35: =IF(B35<>"",MAX(A$1:A34)+1,"") -> 20 | B35: Г. Велиж, ул. Энгельса, д. 7а | C35: 1972 | D35: - | E35: кирпич | F35: 2 | G35: 1 | H35: 344.3 | I35: 0 | J35: 344.3 | K35: =SUM(L35:O35) -> 4997444.2 | L35: 0 | M35: 0 | N35: 0 | O35: =IFERROR( IF(LOOKUP(2,1/($R$16:$R35<>""),$R$16:$R35)="12.2026", VLOOKUP(LOOKUP(2,1/($B$16:$B35<>""),$B$16:$B35), [1]Лист1!$C$12:$D$1205, 2, 0), IF(LOOKUP(2,1/($R$16:$R35<>""),$R$16:$R35)="12.2027", VLOOKUP(LOOKUP(2,1/($B$16:$B35<>""),$B$16:$B35), [1]Лист1!$C$1209:$D$2016, 2, 0), IF(LOOKUP(2,1/($R$16:$R35<>""),$R$16:$R35)="12.2028", VLOOKUP(LOOKUP(2,1/($B$16:$B35<>""),$B$16:$B35), [1]Лист1!$C$2020:$D$2907, 2, 0), ""))), "") -> 4997444.2 | P35: =K35/H35 -> 14514.796 | Q35: 9673 | R35: 12.2028
A36: 2. Муниципальное образование «Вяземский муниципальный округ» Смоленской области
A37: Итого по муниципальному образованию «Вяземский муниципальный округ» Смоленской области | C37: х | D37: х | E37: х | F37: х | G37: х | H37: =SUM(H38:H264) -> 507402.54 | I37: =SUM(I38:I264) -> 31931.86 | J37: =SUM(J38:J264) -> 407792.31 | K37: =SUM(K38:K264) -> 2.2331481e+09 | L37: =SUM(L38:L264) -> 0 | M37: =SUM(M38:M264) -> 0 | N37: =SUM(N38:N264) -> 0 | O37: =SUM(O38:O264) -> 2.2331481e+09 | P37: =K37/H37 -> 4401.1371 | Q37: х | R37: х
A38: =IF(B38<>"",MAX(A$1:A37)+1,"") -> 21 | B38: Г. Вязьма, пер. Загородный, д. 2 | C38: 1998 | D38: - | E38: кирпич | F38: 9 | G38: 1 | H38: 4345 | I38: 17.9 | J38: 3173.2 | K38: =SUM(L38:O38) -> 3738272.4 | L38: 0 | M38: 0 | N38: 0 | O38: =IFERROR( IF(LOOKUP(2,1/($R$16:$R38<>""),$R$16:$R38)="12.2026", VLOOKUP(LOOKUP(2,1/($B$16:$B38<>""),$B$16:$B38), [1]Лист1!$C$12:$D$1205, 2, 0), IF(LOOKUP(2,1/($R$16:$R38<>""),$R$16:$R38)="12.2027", VLOOKUP(LOOKUP(2,1/($B$16:$B38<>""),$B$16:$B38), [1]Лист1!$C$1209:$D$2016, 2, 0), IF(LOOKUP(2,1/($R$16:$R38<>""),$R$16:$R38)="12.2028", VLOOKUP(LOOKUP(2,1/($B$16:$B38<>""),$B$16:$B38), [1]Лист1!$C$2020:$D$2907, 2, 0), ""))), "") -> 3738272.4 | P38: =K38/H38 -> 860.36189 | Q38: 9673 | R38: 12.2026
A39: =IF(B39<>"",MAX(A$1:A38)+1,"") -> 22 | B39: Г. Вязьма, пер. Загородный, д. 21 | C39: 1988 | D39: - | E39: панели | F39: 9 | G39: 2 | H39: 4840.4 | I39: 0 | J39: 3885.8 | K39: =SUM(L39:O39) -> 7247811.3 | L39: 0 | M39: 0 | N39: 0 | O39: =IFERROR( IF(LOOKUP(2,1/($R$16:$R39<>""),$R$16:$R39)="12.2026", VLOOKUP(LOOKUP(2,1/($B$16:$B39<>""),$B$16:$B39), [1]Лист1!$C$12:$D$1205, 2, 0), IF(LOOKUP(2,1/($R$16:$R39<>""),$R$16:$R39)="12.2027", VLOOKUP(LOOKUP(2,1/($B$16:$B39<>""),$B$16:$B39), [1]Лист1!$C$1209:$D$2016, 2, 0), IF(LOOKUP(2,1/($R$16:$R39<>""),$R$16:$R39)="12.2028", VLOOKUP(LOOKUP(2,1/($B$16:$B39<>""),$B$16:$B39), [1]Лист1!$C$2020:$D$2907, 2, 0), ""))), "") -> 7247811.3 | P39: =K39/H39 -> 1497.3579 | Q39: 9673 | R39: 12.2026
A40: =IF(B40<>"",MAX(A$1:A39)+1,"") -> 23 | B40: Г. Вязьма, пер. Загородный, д. 25 | C40: 1972 | D40: - | E40: кирпич | F40: 5 | G40: 6 | H40: 4488.6 | I40: 0 | J40: 4475.14 | K40: =SUM(L40:O40) -> 34655835 | L40: 0 | M40: 0 | N40: 0 | O40: =IFERROR( IF(LOOKUP(2,1/($R$16:$R40<>""),$R$16:$R40)="12.2026", VLOOKUP(LOOKUP(2,1/($B$16:$B40<>""),$B$16:$B40), [1]Лист1!$C$12:$D$1205, 2, 0), IF(LOOKUP(2,1/($R$16:$R40<>""),$R$16:$R40)="12.2027", VLOOKUP(LOOKUP(2,1/($B$16:$B40<>""),$B$16:$B40), [1]Лист1!$C$1209:$D$2016, 2, 0), IF(LOOKUP(2,1/($R$16:$R40<>""),$R$16:$R40)="12.2028", VLOOKUP(LOOKUP(2,1/($B$16:$B40<>""),$B$16:$B40), [1]Лист1!$C$2020:$D$2907, 2, 0), ""))), "") -> 34655835 | P40: =K40/H40 -> 7720.8562 | Q40: 9673 | R40: 12.2028
A41: =IF(B41<>"",MAX(A$1:A40)+1,"") -> 24 | B41: Г. Вязьма, пер. Устинкин, д. 7а | C41: 1987 | D41: - | E41: кирпич | F41: 5 | G41: 4 | H41: 3833.3 | I41: 0 | J41: 3833.3 | K41: =SUM(L41:O41) -> 5514800 | L41: 0 | M41: 0 | N41: 0 | O41: =IFERROR( IF(LOOKUP(2,1/($R$16:$R41<>""),$R$16:$R41)="12.2026", VLOOKUP(LOOKUP(2,1/($B$16:$B41<>""),$B$16:$B41), [1]Лист1!$C$12:$D$1205, 2, 0), IF(LOOKUP(2,1/($R$16:$R41<>""),$R$16:$R41)="12.2027", VLOOKUP(LOOKUP(2,1/($B$16:$B41<>""),$B$16:$B41), [1]Лист1!$C$1209:$D$2016, 2, 0), IF(LOOKUP(2,1/($R$16:$R41<>""),$R$16:$R41)="12.2028", VLOOKUP(LOOKUP(2,1/($B$16:$B41<>""),$B$16:$B41), [1]Лист1!$C$2020:$D$2907, 2, 0), ""))), "") -> 5514800 | P41: =K41/H41 -> 1438.656 | Q41: 9673 | R41: 12.2028
A42: =IF(B42<>"",MAX(A$1:A41)+1,"") -> 25 | B42: Г. Вязьма, пл. Ефремова, д. 3 | C42: 1954 | D42: - | E42: кирпич | F42: 3 | G42: 3 | H42: 2857.5 | I42: 806.69 | J42: 1822.8 | K42: =SUM(L42:O42) -> 34883.41 | L42: 0 | M42: 0 | N42: 0 | O42: =IFERROR( IF(LOOKUP(2,1/($R$16:$R42<>""),$R$16:$R42)="12.2026", VLOOKUP(LOOKUP(2,1/($B$16:$B42<>""),$B$16:$B42), [1]Лист1!$C$12:$D$1205, 2, 0), IF(LOOKUP(2,1/($R$16:$R42<>""),$R$16:$R42)="12.2027", VLOOKUP(LOOKUP(2,1/($B$16:$B42<>""),$B$16:$B42), [1]Лист1!$C$1209:$D$2016, 2, 0), IF(LOOKUP(2,1/($R$16:$R42<>""),$R$16:$R42)="12.2028", VLOOKUP(LOOKUP(2,1/($B$16:$B42<>""),$B$16:$B42), [1]Лист1!$C$2020:$D$2907, 2, 0), ""))), "") -> 34883.41 | P42: =K42/H42 -> 12.207668 | Q42: 9673 | R42: 12.2026
A43: =IF(B43<>"",MAX(A$1:A42)+1,"") -> 26 | B43: Г. Вязьма, пр. 25 Октября, д. 2 | C43: 1978 | D43: - | E43: панели | F43: 9 | G43: 4 | H43: 7430.7 | I43: 0 | J43: 7430.7 | K43: =SUM(L43:O43) -> 53906982 | L43: 0 | M43: 0 | N43: 0 | O43: =IFERROR( IF(LOOKUP(2,1/($R$16:$R43<>""),$R$16:$R43)="12.2026", VLOOKUP(LOOKUP(2,1/($B$16:$B43<>""),$B$16:$B43), [1]Лист1!$C$12:$D$1205, 2, 0), IF(LOOKUP(2,1/($R$16:$R43<>""),$R$16:$R43)="12.2027", VLOOKUP(LOOKUP(2,1/($B$16:$B43<>""),$B$16:$B43), [1]Лист1!$C$1209:$D$2016, 2, 0), IF(LOOKUP(2,1/($R$16:$R43<>""),$R$16:$R43)="12.2028", VLOOKUP(LOOKUP(2,1/($B$16:$B43<>""),$B$16:$B43), [1]Лист1!$C$2020:$D$2907, 2, 0), ""))), "") -> 53906982 | P43: =K43/H43 -> 7254.6305 | Q43: 9673 | R43: 12.2028
A44: =IF(B44<>"",MAX(A$1:A43)+1,"") -> 27 | B44: Г. Вязьма, пр. 25 Октября, д. 4 | C44: 1983 | D44: - | E44: кирпич | F44: 5 | G44: 2 | H44: 4803.68 | I44: 337.9 | J44: 3502.63 | K44: =SUM(L44:O44) -> 25136574 | L44: 0 | M44: 0 | N44: 0 | O44: =IFERROR( IF(LOOKUP(2,1/($R$16:$R44<>""),$R$16:$R44)="12.2026", VLOOKUP(LOOKUP(2,1/($B$16:$B44<>""),$B$16:$B44), [1]Лист1!$C$12:$D$1205, 2, 0), IF(LOOKUP(2,1/($R$16:$R44<>""),$R$16:$R44)="12.2027", VLOOKUP(LOOKUP(2,1/($B$16:$B44<>""),$B$16:$B44), [1]Лист1!$C$1209:$D$2016, 2, 0), IF(LOOKUP(2,1/($R$16:$R44<>""),$R$16:$R44)="12.2028", VLOOKUP(LOOKUP(2,1/($B$16:$B44<>""),$B$16:$B44), [1]Лист1!$C$2020:$D$2907, 2, 0), ""))), "") -> 25136574 | P44: =K44/H44 -> 5232.7744 | Q44: 9673 | R44: 12.2027
A45: =IF(B45<>"",MAX(A$1:A44)+1,"") -> 28 | B45: Г. Вязьма, ул. 1-я Садовая, д. 10 | C45: 1971 | D45: - | E45: дерево | F45: 1 | G45: 3 | H45: 364.1 | I45: 0 | J45: 213.24 | K45: =SUM(L45:O45) -> 7034969.5 | L45: 0 | M45: 0 | N45: 0 | O45: =IFERROR( IF(LOOKUP(2,1/($R$16:$R45<>""),$R$16:$R45)="12.2026", VLOOKUP(LOOKUP(2,1/($B$16:$B45<>""),$B$16:$B45), [1]Лист1!$C$12:$D$1205, 2, 0), IF(LOOKUP(2,1/($R$16:$R45<>""),$R$16:$R45)="12.2027", VLOOKUP(LOOKUP(2,1/($B$16:$B45<>""),$B$16:$B45), [1]Лист1!$C$1209:$D$2016, 2, 0), IF(LOOKUP(2,1/($R$16:$R45<>""),$R$16:$R45)="12.2028", VLOOKUP(LOOKUP(2,1/($B$16:$B45<>""),$B$16:$B45), [1]Лист1!$C$2020:$D$2907, 2, 0), ""))), "") -> 7034969.5 | P45: =K45/H45 -> 19321.531 | Q45: 9673 | R45: 12.2028
A46: =IF(B46<>"",MAX(A$1:A45)+1,"") -> 29 | B46: Г. Вязьма, ул. 25 Октября, д. 1 | C46: 1959 | D46: - | E46: кирпич | F46: 3 | G46: 3 | H46: 1582.7 | I46: 0 | J46: 1435.2 | K46: =SUM(L46:O46) -> 27973.39 | L46: 0 | M46: 0 | N46: 0 | O46: =IFERROR( IF(LOOKUP(2,1/($R$16:$R46<>""),$R$16:$R46)="12.2026", VLOOKUP(LOOKUP(2,1/($B$16:$B46<>""),$B$16:$B46), [1]Лист1!$C$12:$D$1205, 2, 0), IF(LOOKUP(2,1/($R$16:$R46<>""),$R$16:$R46)="12.2027", VLOOKUP(LOOKUP(2,1/($B$16:$B46<>""),$B$16:$B46), [1]Лист1!$C$1209:$D$2016, 2, 0), IF(LOOKUP(2,1/($R$16:$R46<>""),$R$16:$R46)="12.2028", VLOOKUP(LOOKUP(2,1/($B$16:$B46<>""),$B$16:$B46), [1]Лист1!$C$2020:$D$2907, 2, 0), ""))), "") -> 27973.39 | P46: =K46/H46 -> 17.674474 | Q46: 9673 | R46: 12.2026
A47: =IF(B47<>"",MAX(A$1:A46)+1,"") -> 30 | B47: Г. Вязьма, ул. 25 Октября, д. 3 | C47: 1961 | D47: - | E47: кирпич | F47: 3 | G47: 3 | H47: 1717.3 | I47: 50 | J47: 1527.44 | K47: =SUM(L47:O47) -> 5202637 | L47: 0 | M47: 0 | N47: 0 | O47: =IFERROR( IF(LOOKUP(2,1/($R$16:$R47<>""),$R$16:$R47)="12.2026", VLOOKUP(LOOKUP(2,1/($B$16:$B47<>""),$B$16:$B47), [1]Лист1!$C$12:$D$1205, 2, 0), IF(LOOKUP(2,1/($R$16:$R47<>""),$R$16:$R47)="12.2027", VLOOKUP(LOOKUP(2,1/($B$16:$B47<>""),$B$16:$B47), [1]Лист1!$C$1209:$D$2016, 2, 0), IF(LOOKUP(2,1/($R$16:$R47<>""),$R$16:$R47)="12.2028", VLOOKUP(LOOKUP(2,1/($B$16:$B47<>""),$B$16:$B47), [1]Лист1!$C$2020:$D$2907, 2, 0), ""))), "") -> 5202637 | P47: =K47/H47 -> 3029.5446 | Q47: 9673 | R47: 12.2026
K48: =SUM(L48:O48) -> 62664.57 | L48: 0 | M48: 0 | N48: 0 | O48: =IFERROR( IF(LOOKUP(2,1/($R$16:$R48<>""),$R$16:$R48)="12.2026", VLOOKUP(LOOKUP(2,1/($B$16:$B48<>""),$B$16:$B48), [1]Лист1!$C$12:$D$1205, 2, 0), IF(LOOKUP(2,1/($R$16:$R48<>""),$R$16:$R48)="12.2027", VLOOKUP(LOOKUP(2,1/($B$16:$B48<>""),$B$16:$B48), [1]Лист1!$C$1209:$D$2016, 2, 0), IF(LOOKUP(2,1/($R$16:$R48<>""),$R$16:$R48)="12.2028", VLOOKUP(LOOKUP(2,1/($B$16:$B48<>""),$B$16:$B48), [1]Лист1!$C$2020:$D$2907, 2, 0), ""))), "") -> 62664.57 | P48: =K48/H47 -> 36.490171 | Q48: 9673 | R48: 12.2027
A49: =IF(B49<>"",MAX(A$1:A48)+1,"") -> 31 | B49: Г. Вязьма, ул. 25 Октября, д. 5 | C49: 1962 | D49: - | E49: кирпич | F49: 3 | G49: 3 | H49: 1675.2 | I49: 372.8 | J49: 1144.74 | K49: =SUM(L49:O49) -> 61573.58 | L49: 0 | M49: 0 | N49: 0 | O49: =IFERROR( IF(LOOKUP(2,1/($R$16:$R49<>""),$R$16:$R49)="12.2026", VLOOKUP(LOOKUP(2,1/($B$16:$B49<>""),$B$16:$B49), [1]Лист1!$C$12:$D$1205, 2, 0), IF(LOOKUP(2,1/($R$16:$R49<>""),$R$16:$R49)="12.2027", VLOOKUP(LOOKUP(2,1/($B$16:$B49<>""),$B$16:$B49), [1]Лист1!$C$1209:$D$2016, 2, 0), IF(LOOKUP(2,1/($R$16:$R49<>""),$R$16:$R49)="12.2028", VLOOKUP(LOOKUP(2,1/($B$16:$B49<>""),$B$16:$B49), [1]Лист1!$C$2020:$D$2907, 2, 0), ""))), "") -> 61573.58 | P49: =K49/H49 -> 36.755957 | Q49: 9673 | R49: 12.2027
A50: =IF(B50<>"",MAX(A$1:A49)+1,"") -> 32 | B50: Г. Вязьма, ул. 25 Октября, д. 6 | C50: 1956 | D50: - | E50: кирпич | F50: 2 | G50: 2 | H50: 776.7 | I50: 0 | J50: 584.8 | K50: =SUM(L50:O50) -> 11824.32 | L50: 0 | M50: 0 | N50: 0 | O50: =IFERROR( IF(LOOKUP(2,1/($R$16:$R50<>""),$R$16:$R50)="12.2026", VLOOKUP(LOOKUP(2,1/($B$16:$B50<>""),$B$16:$B50), [1]Лист1!$C$12:$D$1205, 2, 0), IF(LOOKUP(2,1/($R$16:$R50<>""),$R$16:$R50)="12.2027", VLOOKUP(LOOKUP(2,1/($B$16:$B50<>""),$B$16:$B50), [1]Лист1!$C$1209:$D$2016, 2, 0), IF(LOOKUP(2,1/($R$16:$R50<>""),$R$16:$R50)="12.2028", VLOOKUP(LOOKUP(2,1/($B$16:$B50<>""),$B$16:$B50), [1]Лист1!$C$2020:$D$2907, 2, 0), ""))), "") -> 11824.32 | P50: =K50/H50 -> 15.223793 | Q50: 9673 | R50: 12.2026
A51: =IF(B51<>"",MAX(A$1:A50)+1,"") -> 33 | B51: Г. Вязьма, ул. 25 Октября, д. 7 | C51: 1962 | D51: - | E51: кирпич | F51: 3 | G51: 3 | H51: 1673.2 | I51: 332 | J51: 1173.4 | K51: =SUM(L51:O51) -> 61521.75 | L51: 0 | M51: 0 | N51: 0 | O51: =IFERROR( IF(LOOKUP(2,1/($R$16:$R51<>""),$R$16:$R51)="12.2026", VLOOKUP(LOOKUP(2,1/($B$16:$B51<>""),$B$16:$B51), [1]Лист1!$C$12:$D$1205, 2, 0), IF(LOOKUP(2,1/($R$16:$R51<>""),$R$16:$R51)="12.2027", VLOOKUP(LOOKUP(2,1/($B$16:$B51<>""),$B$16:$B51), [1]Лист1!$C$1209:$D$2016, 2, 0), IF(LOOKUP(2,1/($R$16:$R51<>""),$R$16:$R51)="12.2028", VLOOKUP(LOOKUP(2,1/($B$16:$B51<>""),$B$16:$B51), [1]Лист1!$C$2020:$D$2907, 2, 0), ""))), "") -> 61521.75 | P51: =K51/H51 -> 36.768916 | Q51: 9673 | R51: 12.2027
A52: =IF(B52<>"",MAX(A$1:A51)+1,"") -> 34 | B52: Г. Вязьма, ул. 25 Октября, д. 8 | C52: 1952 | D52: 1991 | E52: кирпич | F52: 2 | G52: 1 | H52: 606.8 | I52: 200 | J52: 321.5 | K52: =SUM(L52:O52) -> 12804.48 | L52: 0 | M52: 0 | N52: 0 | O52: =IFERROR( IF(LOOKUP(2,1/($R$16:$R52<>""),$R$16:$R52)="12.2026", VLOOKUP(LOOKUP(2,1/($B$16:$B52<>""),$B$16:$B52), [1]Лист1!$C$12:$D$1205, 2, 0), IF(LOOKUP(2,1/($R$16:$R52<>""),$R$16:$R52)="12.2027", VLOOKUP(LOOKUP(2,1/($B$16:$B52<>""),$B$16:$B52), [1]Лист1!$C$1209:$D$2016, 2, 0), IF(LOOKUP(2,1/($R$16:$R52<>""),$R$16:$R52)="12.2028", VLOOKUP(LOOKUP(2,1/($B$16:$B52<>""),$B$16:$B52), [1]Лист1!$C$2020:$D$2907, 2, 0), ""))), "") -> 12804.48 | P52: =K52/H52 -> 21.101648 | Q52: 9673 | R52: 12.2026
A53: =IF(B53<>"",MAX(A$1:A52)+1,"") -> 35 | B53: Г. Вязьма, ул. 25 Октября, д. 16 | C53: 1956 | D53: - | E53: кирпич | F53: 2 | G53: 1 | H53: 561.6 | I53: 258.3 | J53: 259.1 | K53: =SUM(L53:O53) -> 30668.23 | L53: 0 | M53: 0 | N53: 0 | O53: =IFERROR( IF(LOOKUP(2,1/($R$16:$R53<>""),$R$16:$R53)="12.2026", VLOOKUP(LOOKUP(2,1/($B$16:$B53<>""),$B$16:$B53), [1]Лист1!$C$12:$D$1205, 2, 0), IF(LOOKUP(2,1/($R$16:$R53<>""),$R$16:$R53)="12.2027", VLOOKUP(LOOKUP(2,1/($B$16:$B53<>""),$B$16:$B53), [1]Лист1!$C$1209:$D$2016, 2, 0), IF(LOOKUP(2,1/($R$16:$R53<>""),$R$16:$R53)="12.2028", VLOOKUP(LOOKUP(2,1/($B$16:$B53<>""),$B$16:$B53), [1]Лист1!$C$2020:$D$2907, 2, 0), ""))), "") -> 30668.23 | P53: =K53/H53 -> 54.608672 | Q53: 9673 | R53: 12.2026
A54: =IF(B54<>"",MAX(A$1:A53)+1,"") -> 36 | B54: Г. Вязьма, ул. 25 Октября, д. 20 | C54: 1960 | D54: - | E54: кирпич | F54: 2 | G54: 1 | H54: 298.2 | I54: 138.8 | J54: 138 | K54: =SUM(L54:O54) -> 12298.14 | L54: 0 | M54: 0 | N54: 0 | O54: =IFERROR( IF(LOOKUP(2,1/($R$16:$R54<>""),$R$16:$R54)="12.2026", VLOOKUP(LOOKUP(2,1/($B$16:$B54<>""),$B$16:$B54), [1]Лист1!$C$12:$D$1205, 2, 0), IF(LOOKUP(2,1/($R$16:$R54<>""),$R$16:$R54)="12.2027", VLOOKUP(LOOKUP(2,1/($B$16:$B54<>""),$B$16:$B54), [1]Лист1!$C$1209:$D$2016, 2, 0), IF(LOOKUP(2,1/($R$16:$R54<>""),$R$16:$R54)="12.2028", VLOOKUP(LOOKUP(2,1/($B$16:$B54<>""),$B$16:$B54), [1]Лист1!$C$2020:$D$2907, 2, 0), ""))), "") -> 12298.14 | P54: =K54/H54 -> 41.241247 | Q54: 9673 | R54: 12.2026
A55: =IF(B55<>"",MAX(A$1:A54)+1,"") -> 37 | B55: Г. Вязьма, ул. 25 Октября, д. 22 | C55: 1956 | D55: - | E55: кирпич | F55: 2 | G55: 1 | H55: 518.57 | I55: 239.28 | J55: 241.42 | K55: =SUM(L55:O55) -> 23979.22 | L55: 0 | M55: 0 | N55: 0 | O55: =IFERROR( IF(LOOKUP(2,1/($R$16:$R55<>""),$R$16:$R55)="12.2026", VLOOKUP(LOOKUP(2,1/($B$16:$B55<>""),$B$16:$B55), [1]Лист1!$C$12:$D$1205, 2, 0), IF(LOOKUP(2,1/($R$16:$R55<>""),$R$16:$R55)="12.2027", VLOOKUP(LOOKUP(2,1/($B$16:$B55<>""),$B$16:$B55), [1]Лист1!$C$1209:$D$2016, 2, 0), IF(LOOKUP(2,1/($R$16:$R55<>""),$R$16:$R55)="12.2028", VLOOKUP(LOOKUP(2,1/($B$16:$B55<>""),$B$16:$B55), [1]Лист1!$C$2020:$D$2907, 2, 0), ""))), "") -> 23979.22 | P55: =K55/H55 -> 46.241047 | Q55: 9673 | R55: 12.2026
A56: =IF(B56<>"",MAX(A$1:A55)+1,"") -> 38 | B56: Г. Вязьма, ул. 25 Октября, д. 24 | C56: 1963 | D56: - | E56: кирпич | F56: 4 | G56: 3 | H56: 2241.9 | I56: 213.1 | J56: 2020.88 | K56: =SUM(L56:O56) -> 68960.96 | L56: 0 | M56: 0 | N56: 0 | O56: =IFERROR( IF(LOOKUP(2,1/($R$16:$R56<>""),$R$16:$R56)="12.2026", VLOOKUP(LOOKUP(2,1/($B$16:$B56<>""),$B$16:$B56), [1]Лист1!$C$12:$D$1205, 2, 0), IF(LOOKUP(2,1/($R$16:$R56<>""),$R$16:$R56)="12.2027", VLOOKUP(LOOKUP(2,1/($B$16:$B56<>""),$B$16:$B56), [1]Лист1!$C$1209:$D$2016, 2, 0), IF(LOOKUP(2,1/($R$16:$R56<>""),$R$16:$R56)="12.2028", VLOOKUP(LOOKUP(2,1/($B$16:$B56<>""),$B$16:$B56), [1]Лист1!$C$2020:$D$2907, 2, 0), ""))), "") -> 68960.96 | P56: =K56/H56 -> 30.760052 | Q56: 9673 | R56: 12.2027
A57: =IF(B57<>"",MAX(A$1:A56)+1,"") -> 39 | B57: Г. Вязьма, ул. 25 Октября, д. 25 | C57: 1961 | D57: - | E57: кирпич | F57: 3 | G57: 2 | H57: 973 | I57: 0 | J57: 903.94 | K57: =SUM(L57:O57) -> 61216.93 | L57: 0 | M57: 0 | N57: 0 | O57: =IFERROR( IF(LOOKUP(2,1/($R$16:$R57<>""),$R$16:$R57)="12.2026", VLOOKUP(LOOKUP(2,1/($B$16:$B57<>""),$B$16:$B57), [1]Лист1!$C$12:$D$1205, 2, 0), IF(LOOKUP(2,1/($R$16:$R57<>""),$R$16:$R57)="12.2027", VLOOKUP(LOOKUP(2,1/($B$16:$B57<>""),$B$16:$B57), [1]Лист1!$C$1209:$D$2016, 2, 0), IF(LOOKUP(2,1/($R$16:$R57<>""),$R$16:$R57)="12.2028", VLOOKUP(LOOKUP(2,1/($B$16:$B57<>""),$B$16:$B57), [1]Лист1!$C$2020:$D$2907, 2, 0), ""))), "") -> 61216.93 | P57: =K57/H57 -> 62.915653 | Q57: 9673 | R57: 12.2027
A58: =IF(B58<>"",MAX(A$1:A57)+1,"") -> 40 | B58: Г. Вязьма, ул. 25 Октября, д. 26 | C58: 1964 | D58: - | E58: кирпич | F58: 4 | G58: 3 | H58: 2044.8 | I58: 0 | J58: 2044.76 | K58: =SUM(L58:O58) -> 64494.9 | L58: 0 | M58: 0 | N58: 0 | O58: =IFERROR( IF(LOOKUP(2,1/($R$16:$R58<>""),$R$16:$R58)="12.2026", VLOOKUP(LOOKUP(2,1/($B$16:$B58<>""),$B$16:$B58), [1]Лист1!$C$12:$D$1205, 2, 0), IF(LOOKUP(2,1/($R$16:$R58<>""),$R$16:$R58)="12.2027", VLOOKUP(LOOKUP(2,1/($B$16:$B58<>""),$B$16:$B58), [1]Лист1!$C$1209:$D$2016, 2, 0), IF(LOOKUP(2,1/($R$16:$R58<>""),$R$16:$R58)="12.2028", VLOOKUP(LOOKUP(2,1/($B$16:$B58<>""),$B$16:$B58), [1]Лист1!$C$2020:$D$2907, 2, 0), ""))), "") -> 64494.9 | P58: =K58/H58 -> 31.540933 | Q58: 9673 | R58: 12.2027
A59: =IF(B59<>"",MAX(A$1:A58)+1,"") -> 41 | B59: Г. Вязьма, ул. 25 Октября, д. 27 | C59: 1959 | D59: - | E59: кирпич | F59: 3 | G59: 3 | H59: 1803.1 | I59: 0 | J59: 1630.97 | K59: =SUM(L59:O59) -> 69987.35 | L59: 0 | M59: 0 | N59: 0 | O59: =IFERROR( IF(LOOKUP(2,1/($R$16:$R59<>""),$R$16:$R59)="12.2026", VLOOKUP(LOOKUP(2,1/($B$16:$B59<>""),$B$16:$B59), [1]Лист1!$C$12:$D$1205, 2, 0), IF(LOOKUP(2,1/($R$16:$R59<>""),$R$16:$R59)="12.2027", VLOOKUP(LOOKUP(2,1/($B$16:$B59<>""),$B$16:$B59), [1]Лист1!$C$1209:$D$2016, 2, 0), IF(LOOKUP(2,1/($R$16:$R59<>""),$R$16:$R59)="12.2028", VLOOKUP(LOOKUP(2,1/($B$16:$B59<>""),$B$16:$B59), [1]Лист1!$C$2020:$D$2907, 2, 0), ""))), "") -> 69987.35 | P59: =K59/H59 -> 38.815013 | Q59: 9673 | R59: 12.2026
A60: =IF(B60<>"",MAX(A$1:A59)+1,"") -> 42 | B60: Г. Вязьма, ул. 25 Октября, д. 28 | C60: 1963 | D60: - | E60: кирпич | F60: 4 | G60: 3 | H60: 1713.9 | I60: 0 | J60: 1713.9 | K60: =SUM(L60:O60) -> 18934483 | L60: 0 | M60: 0 | N60: 0 | O60: =IFERROR( IF(LOOKUP(2,1/($R$16:$R60<>""),$R$16:$R60)="12.2026", VLOOKUP(LOOKUP(2,1/($B$16:$B60<>""),$B$16:$B60), [1]Лист1!$C$12:$D$1205, 2, 0), IF(LOOKUP(2,1/($R$16:$R60<>""),$R$16:$R60)="12.2027", VLOOKUP(LOOKUP(2,1/($B$16:$B60<>""),$B$16:$B60), [1]Лист1!$C$1209:$D$2016, 2, 0), IF(LOOKUP(2,1/($R$16:$R60<>""),$R$16:$R60)="12.2028", VLOOKUP(LOOKUP(2,1/($B$16:$B60<>""),$B$16:$B60), [1]Лист1!$C$2020:$D$2907, 2, 0), ""))), "") -> 18934483 | P60: =K60/H60 -> 11047.601 | Q60: 9673 | R60: 12.2027
A61: =IF(B61<>"",MAX(A$1:A60)+1,"") -> 43 | B61: Г. Вязьма, ул. 25 Октября, д. 29 | C61: 1960 | D61: - | E61: кирпич | F61: 3 | G61: 3 | H61: 2097.3 | I61: 712.3 | J61: 980.4 | K61: =SUM(L61:O61) -> 6131066.6 | L61: 0 | M61: 0 | N61: 0 | O61: =IFERROR( IF(LOOKUP(2,1/($R$16:$R61<>""),$R$16:$R61)="12.2026", VLOOKUP(LOOKUP(2,1/($B$16:$B61<>""),$B$16:$B61), [1]Лист1!$C$12:$D$1205, 2, 0), IF(LOOKUP(2,1/($R$16:$R61<>""),$R$16:$R61)="12.2027", VLOOKUP(LOOKUP(2,1/($B$16:$B61<>""),$B$16:$B61), [1]Лист1!$C$1209:$D$2016, 2, 0), IF(LOOKUP(2,1/($R$16:$R61<>""),$R$16:$R61)="12.2028", VLOOKUP(LOOKUP(2,1/($B$16:$B61<>""),$B$16:$B61), [1]Лист1!$C$2020:$D$2907, 2, 0), ""))), "") -> 6131066.6 | P61: =K61/H61 -> 2923.3141 | Q61: 9673 | R61: 12.2026
A62: =IF(B62<>"",MAX(A$1:A61)+1,"") -> 44 | B62: Г. Вязьма, ул. 25 Октября, д. 30 | C62: 1964 | D62: - | E62: кирпич | F62: 4 | G62: 3 | H62: 2035.7 | I62: 708.3 | J62: 1327.04 | K62: =SUM(L62:O62) -> 13554017 | L62: 0 | M62: 0 | N62: 0 | O62: =IFERROR( IF(LOOKUP(2,1/($R$16:$R62<>""),$R$16:$R62)="12.2026", VLOOKUP(LOOKUP(2,1/($B$16:$B62<>""),$B$16:$B62), [1]Лист1!$C$12:$D$1205, 2, 0), IF(LOOKUP(2,1/($R$16:$R62<>""),$R$16:$R62)="12.2027", VLOOKUP(LOOKUP(2,1/($B$16:$B62<>""),$B$16:$B62), [1]Лист1!$C$1209:$D$2016, 2, 0), IF(LOOKUP(2,1/($R$16:$R62<>""),$R$16:$R62)="12.2028", VLOOKUP(LOOKUP(2,1/($B$16:$B62<>""),$B$16:$B62), [1]Лист1!$C$2020:$D$2907, 2, 0), ""))), "") -> 13554017 | P62: =K62/H62 -> 6658.1602 | Q62: 9673 | R62: 12.2027
A63: =IF(B63<>"",MAX(A$1:A62)+1,"") -> 45 | B63: Г. Вязьма, ул. 25 Октября, д. 33 | C63: 1949 | D63: - | E63: кирпич | F63: 2 | G63: 3 | H63: 1384 | I63: 402.9 | J63: 686.7 | K63: =SUM(L63:O63) -> 41622.62 | L63: 0 | M63: 0 | N63: 0 | O63: =IFERROR( IF(LOOKUP(2,1/($R$16:$R63<>""),$R$16:$R63)="12.2026", VLOOKUP(LOOKUP(2,1/($B$16:$B63<>""),$B$16:$B63), [1]Лист1!$C$12:$D$1205, 2, 0), IF(LOOKUP(2,1/($R$16:$R63<>""),$R$16:$R63)="12.2027", VLOOKUP(LOOKUP(2,1/($B$16:$B63<>""),$B$16:$B63), [1]Лист1!$C$1209:$D$2016, 2, 0), IF(LOOKUP(2,1/($R$16:$R63<>""),$R$16:$R63)="12.2028", VLOOKUP(LOOKUP(2,1/($B$16:$B63<>""),$B$16:$B63), [1]Лист1!$C$2020:$D$2907, 2, 0), ""))), "") -> 41622.62 | P63: =K63/H63 -> 30.074147 | Q63: 9673 | R63: 12.2026
A64: =IF(B64<>"",MAX(A$1:A63)+1,"") -> 46 | B64: Г. Вязьма, ул. 2-я Новоторжская, д. 14 | C64: 1973 | D64: - | E64: кирпич | F64: 2 | G64: 1 | H64: 376 | I64: 0 | J64: 376 | K64: =SUM(L64:O64) -> 9833588 | L64: 0 | M64: 0 | N64: 0 | O64: =IFERROR( IF(LOOKUP(2,1/($R$16:$R64<>""),$R$16:$R64)="12.2026", VLOOKUP(LOOKUP(2,1/($B$16:$B64<>""),$B$16:$B64), [1]Лист1!$C$12:$D$1205, 2, 0), IF(LOOKUP(2,1/($R$16:$R64<>""),$R$16:$R64)="12.2027", VLOOKUP(LOOKUP(2,1/($B$16:$B64<>""),$B$16:$B64), [1]Лист1!$C$1209:$D$2016, 2, 0), IF(LOOKUP(2,1/($R$16:$R64<>""),$R$16:$R64)="12.2028", VLOOKUP(LOOKUP(2,1/($B$16:$B64<>""),$B$16:$B64), [1]Лист1!$C$2020:$D$2907, 2, 0), ""))), "") -> 9833588 | P64: =K64/H64 -> 26153.16 | Q64: 9673 | R64: 12.2028
... A73: =IF(B73<>"",MAX(A$1:A72)+1,"") -> 55 | B73: Г. Вязьма, ул. Дзержинского, д. 6а | C73: 1962 | D73: - | E73: кирпич | F73: 4 | G73: 2 | H73: 1791.7 | I73: 0 | J73: 1286.1 | K73: =SUM(L73:O73) -> 1130395.1 | L73: 0 | M73: 0 | N73: 0 | O73: =IFERROR( IF(LOOKUP(2,1/($R$16:$R73<>""),$R$16:$R73)="12.2026", VLOOKUP(LOOKUP(2,1/($B$16:$B73<>""),$B$16:$B73), [1]Лист1!$C$12:$D$1205, 2, 0), IF(LOOKUP(2,1/($R$16:$R73<>""),$R$16:$R73)="12.2027", VLOOKUP(LOOKUP(2,1/($B$16:$B73<>""),$B$16:$B73), [1]Лист1!$C$1209:$D$2016, 2, 0), IF(LOOKUP(2,1/($R$16:$R73<>""),$R$16:$R73)="12.2028", VLOOKUP(LOOKUP(2,1/($B$16:$B73<>""),$B$16:$B73), [1]Лист1!$C$2020:$D$2907, 2, 0), ""))), "") -> 1130395.1 | P73: =K73/H73 -> 630.90646 | Q73: 9673 | R73: 12.2027
A74: =IF(B73<>"",MAX(A$1:A73)+1,"") -> 56 | B74: Г. Вязьма, ул. Дмитрова гора, д. 2 | C74: 1969 | D74: - | E74: кирпич | F74: 5 | G74: 4 | H74: 4514.33 | I74: 0 | J74: 3157.69 | K74: =SUM(L74:O74) -> 4383756.8 | L74: 0 | M74: 0 | N74: 0 | O74: =IFERROR( IF(LOOKUP(2,1/($R$16:$R74<>""),$R$16:$R74)="12.2026", VLOOKUP(LOOKUP(2,1/($B$16:$B74<>""),$B$16:$B74), [1]Лист1!$C$12:$D$1205, 2, 0), IF(LOOKUP(2,1/($R$16:$R74<>""),$R$16:$R74)="12.2027", VLOOKUP(LOOKUP(2,1/($B$16:$B74<>""),$B$16:$B74), [1]Лист1!$C$1209:$D$2016, 2, 0), IF(LOOKUP(2,1/($R$16:$R74<>""),$R$16:$R74)="12.2028", VLOOKUP(LOOKUP(2,1/($B$16:$B74<>""),$B$16:$B74), [1]Лист1!$C$2020:$D$2907, 2, 0), ""))), "") -> 4383756.8 | P74: =K74/H74 -> 971.07584 | Q74: 9673 | R74: 12.2027
K75: =SUM(L75:O75) -> 18452424 | L75: 0 | M75: 0 | N75: 0 | O75: =IFERROR( IF(LOOKUP(2,1/($R$16:$R75<>""),$R$16:$R75)="12.2026", VLOOKUP(LOOKUP(2,1/($B$16:$B75<>""),$B$16:$B75), [1]Лист1!$C$12:$D$1205, 2, 0), IF(LOOKUP(2,1/($R$16:$R75<>""),$R$16:$R75)="12.2027", VLOOKUP(LOOKUP(2,1/($B$16:$B75<>""),$B$16:$B75), [1]Лист1!$C$1209:$D$2016, 2, 0), IF(LOOKUP(2,1/($R$16:$R75<>""),$R$16:$R75)="12.2028", VLOOKUP(LOOKUP(2,1/($B$16:$B75<>""),$B$16:$B75), [1]Лист1!$C$2020:$D$2907, 2, 0), ""))), "") -> 18452424 | P75: =K75/H74 -> 4087.5221 | Q75: 9673 | R75: 12.2028
A76: =IF(B76<>"",MAX(A$1:A75)+1,"") -> 57 | B76: Г. Вязьма, ул. Дмитрова гора, д. 6 | C76: 1970 | D76: - | E76: кирпич | F76: 2 | G76: 2 | H76: 742.1 | I76: 0 | J76: 693.3 | K76: =SUM(L76:O76) -> 14381035 | L76: 0 | M76: 0 | N76: 0 | O76: =IFERROR( IF(LOOKUP(2,1/($R$16:$R76<>""),$R$16:$R76)="12.2026", VLOOKUP(LOOKUP(2,1/($B$16:$B76<>""),$B$16:$B76), [1]Лист1!$C$12:$D$1205, 2, 0), IF(LOOKUP(2,1/($R$16:$R76<>""),$R$16:$R76)="12.2027", VLOOKUP(LOOKUP(2,1/($B$16:$B76<>""),$B$16:$B76), [1]Лист1!$C$1209:$D$2016, 2, 0), IF(LOOKUP(2,1/($R$16:$R76<>""),$R$16:$R76)="12.2028", VLOOKUP(LOOKUP(2,1/($B$16:$B76<>""),$B$16:$B76), [1]Лист1!$C$2020:$D$2907, 2, 0), ""))), "") -> 14381035 | P76: =K76/H76 -> 19378.838 | Q76: 9673 | R76: 12.2026
A77: =IF(B77<>"",MAX(A$1:A76)+1,"") -> 58 | B77: Г. Вязьма, ул. Докучаева, д. 37 | C77: 1972 | D77: - | E77: кирпич | F77: 5 | G77: 4 | H77: 4484.55 | I77: 611.17 | J77: 2844.94 | K77: =SUM(L77:O77) -> 26971986 | L77: 0 | M77: 0 | N77: 0 | O77: =IFERROR( IF(LOOKUP(2,1/($R$16:$R77<>""),$R$16:$R77)="12.2026", VLOOKUP(LOOKUP(2,1/($B$16:$B77<>""),$B$16:$B77), [1]Лист1!$C$12:$D$1205, 2, 0), IF(LOOKUP(2,1/($R$16:$R77<>""),$R$16:$R77)="12.2027", VLOOKUP(LOOKUP(2,1/($B$16:$B77<>""),$B$16:$B77), [1]Лист1!$C$1209:$D$2016, 2, 0), IF(LOOKUP(2,1/($R$16:$R77<>""),$R$16:$R77)="12.2028", VLOOKUP(LOOKUP(2,1/($B$16:$B77<>""),$B$16:$B77), [1]Лист1!$C$2020:$D$2907, 2, 0), ""))), "") -> 26971986 | P77: =K77/H77 -> 6014.4243 | Q77: 9673 | R77: 12.2028
A78: =IF(B78<>"",MAX(A$1:A77)+1,"") -> 59 | B78: Г. Вязьма, ул. Калинина, д. 1 | C78: 2005 | D78: - | E78: кирпич | F78: 9 | G78: 3 | H78: 9379.8 | I78: 0 | J78: 8265.9 | K78: =SUM(L78:O78) -> 10816374 | L78: 0 | M78: 0 | N78: 0 | O78: =IFERROR( IF(LOOKUP(2,1/($R$16:$R78<>""),$R$16:$R78)="12.2026", VLOOKUP(LOOKUP(2,1/($B$16:$B78<>""),$B$16:$B78), [1]Лист1!$C$12:$D$1205, 2, 0), IF(LOOKUP(2,1/($R$16:$R78<>""),$R$16:$R78)="12.2027", VLOOKUP(LOOKUP(2,1/($B$16:$B78<>""),$B$16:$B78), [1]Лист1!$C$1209:$D$2016, 2, 0), IF(LOOKUP(2,1/($R$16:$R78<>""),$R$16:$R78)="12.2028", VLOOKUP(LOOKUP(2,1/($B$16:$B78<>""),$B$16:$B78), [1]Лист1!$C$2020:$D$2907, 2, 0), ""))), "") -> 10816374 | P78: =K78/H78 -> 1153.1561 | Q78: 9673 | R78: 12.2027
A79: =IF(B79<>"",MAX(A$1:A78)+1,"") -> 60 | B79: Г. Вязьма, ул. Кирова, д. 8 | C79: 1963 | D79: - | E79: кирпич | F79: 2 | G79: 1 | H79: 303.5 | I79: 0 | J79: 303.5 | K79: =SUM(L79:O79) -> 17631.76 | L79: 0 | M79: 0 | N79: 0 | O79: =IFERROR( IF(LOOKUP(2,1/($R$16:$R79<>""),$R$16:$R79)="12.2026", VLOOKUP(LOOKUP(2,1/($B$16:$B79<>""),$B$16:$B79), [1]Лист1!$C$12:$D$1205, 2, 0), IF(LOOKUP(2,1/($R$16:$R79<>""),$R$16:$R79)="12.2027", VLOOKUP(LOOKUP(2,1/($B$16:$B79<>""),$B$16:$B79), [1]Лист1!$C$1209:$D$2016, 2, 0), IF(LOOKUP(2,1/($R$16:$R79<>""),$R$16:$R79)="12.2028", VLOOKUP(LOOKUP(2,1/($B$16:$B79<>""),$B$16:$B79), [1]Лист1!$C$2020:$D$2907, 2, 0), ""))), "") -> 17631.76 | P79: =K79/H79 -> 58.094761 | Q79: 9673 | R79: 12.2026
A80: =IF(B80<>"",MAX(A$1:A79)+1,"") -> 61 | B80: Г. Вязьма, ул. Кирова, д. 14а | C80: 1972 | D80: - | E80: кирпич | F80: 2 | G80: 2 | H80: 767.3 | I80: 0 | J80: 707.26 | K80: =SUM(L80:O80) -> 7700257.9 | L80: 0 | M80: 0 | N80: 0 | O80: =IFERROR( IF(LOOKUP(2,1/($R$16:$R80<>""),$R$16:$R80)="12.2026", VLOOKUP(LOOKUP(2,1/($B$16:$B80<>""),$B$16:$B80), [1]Лист1!$C$12:$D$1205, 2, 0), IF(LOOKUP(2,1/($R$16:$R80<>""),$R$16:$R80)="12.2027", VLOOKUP(LOOKUP(2,1/($B$16:$B80<>""),$B$16:$B80), [1]Лист1!$C$1209:$D$2016, 2, 0), IF(LOOKUP(2,1/($R$16:$R80<>""),$R$16:$R80)="12.2028", VLOOKUP(LOOKUP(2,1/($B$16:$B80<>""),$B$16:$B80), [1]Лист1!$C$2020:$D$2907, 2, 0), ""))), "") -> 7700257.9 | P80: =K80/H80 -> 10035.524 | Q80: 9673 | R80: 12.2028
A81: =IF(B81<>"",MAX(A$1:A80)+1,"") -> 62 | B81: Г. Вязьма, ул. Космонавтов, д. 6 | C81: 1963 | D81: - | E81: кирпич | F81: 4 | G81: 2 | H81: 1800 | I81: 247.2 | J81: 1128 | K81: =SUM(L81:O81) -> 5919078 | L81: 0 | M81: 0 | N81: 0 | O81: =IFERROR( IF(LOOKUP(2,1/($R$16:$R81<>""),$R$16:$R81)="12.2026", VLOOKUP(LOOKUP(2,1/($B$16:$B81<>""),$B$16:$B81), [1]Лист1!$C$12:$D$1205, 2, 0), IF(LOOKUP(2,1/($R$16:$R81<>""),$R$16:$R81)="12.2027", VLOOKUP(LOOKUP(2,1/($B$16:$B81<>""),$B$16:$B81), [1]Лист1!$C$1209:$D$2016, 2, 0), IF(LOOKUP(2,1/($R$16:$R81<>""),$R$16:$R81)="12.2028", VLOOKUP(LOOKUP(2,1/($B$16:$B81<>""),$B$16:$B81), [1]Лист1!$C$2020:$D$2907, 2, 0), ""))), "") -> 5919078 | P81: =K81/H81 -> 3288.3767 | Q81: 9673 | R81: 12.2026
K82: =SUM(L82:O82) -> 10722950 | L82: 0 | M82: 0 | N82: 0 | O82: =IFERROR( IF(LOOKUP(2,1/($R$16:$R82<>""),$R$16:$R82)="12.2026", VLOOKUP(LOOKUP(2,1/($B$16:$B82<>""),$B$16:$B82), [1]Лист1!$C$12:$D$1205, 2, 0), IF(LOOKUP(2,1/($R$16:$R82<>""),$R$16:$R82)="12.2027", VLOOKUP(LOOKUP(2,1/($B$16:$B82<>""),$B$16:$B82), [1]Лист1!$C$1209:$D$2016, 2, 0), IF(LOOKUP(2,1/($R$16:$R82<>""),$R$16:$R82)="12.2028", VLOOKUP(LOOKUP(2,1/($B$16:$B82<>""),$B$16:$B82), [1]Лист1!$C$2020:$D$2907, 2, 0), ""))), "") -> 10722950 | P82: =K82/H81 -> 5957.1944 | Q82: 9673 | R82: 12.2027
A83: =IF(B83<>"",MAX(A$1:A82)+1,"") -> 63 | B83: Г. Вязьма, ул. Космонавтов, д. 8 | C83: 1963 | D83: - | E83: кирпич | F83: 4 | G83: 3 | H83: 3166 | I83: 551.5 | J83: 1492.84 | K83: =SUM(L83:O83) -> 20296144 | L83: 0 | M83: 0 | N83: 0 | O83: =IFERROR( IF(LOOKUP(2,1/($R$16:$R83<>""),$R$16:$R83)="12.2026", VLOOKUP(LOOKUP(2,1/($B$16:$B83<>""),$B$16:$B83), [1]Лист1!$C$12:$D$1205, 2, 0), IF(LOOKUP(2,1/($R$16:$R83<>""),$R$16:$R83)="12.2027", VLOOKUP(LOOKUP(2,1/($B$16:$B83<>""),$B$16:$B83), [1]Лист1!$C$1209:$D$2016, 2, 0), IF(LOOKUP(2,1/($R$16:$R83<>""),$R$16:$R83)="12.2028", VLOOKUP(LOOKUP(2,1/($B$16:$B83<>""),$B$16:$B83), [1]Лист1!$C$2020:$D$2907, 2, 0), ""))), "") -> 20296144 | P83: =K83/H83 -> 6410.6582 | Q83: 9673 | R83: 12.2027
A84: =IF(B84<>"",MAX(A$1:A83)+1,"") -> 64 | B84: Г. Вязьма, ул. Космонавтов, д. 10 | C84: 1964 | D84: - | E84: кирпич | F84: 4 | G84: 3 | H84: 3200 | I84: 915.4 | J84: 1473.67 | K84: =SUM(L84:O84) -> 15512660 | L84: 0 | M84: 0 | N84: 0 | O84: =IFERROR( IF(LOOKUP(2,1/($R$16:$R84<>""),$R$16:$R84)="12.2026", VLOOKUP(LOOKUP(2,1/($B$16:$B84<>""),$B$16:$B84), [1]Лист1!$C$12:$D$1205, 2, 0), IF(LOOKUP(2,1/($R$16:$R84<>""),$R$16:$R84)="12.2027", VLOOKUP(LOOKUP(2,1/($B$16:$B84<>""),$B$16:$B84), [1]Лист1!$C$1209:$D$2016, 2, 0), IF(LOOKUP(2,1/($R$16:$R84<>""),$R$16:$R84)="12.2028", VLOOKUP(LOOKUP(2,1/($B$16:$B84<>""),$B$16:$B84), [1]Лист1!$C$2020:$D$2907, 2, 0), ""))), "") -> 15512660 | P84: =K84/H84 -> 4847.7063 | Q84: 9673 | R84: 12.2027
A85: =IF(B85<>"",MAX(A$1:A84)+1,"") -> 65 | B85: Г. Вязьма, ул. Красноармейское шоссе, д. 1 | C85: 1962 | D85: - | E85: кирпич | F85: 4 | G85: 3 | H85: 1507.55 | I85: 0 | J85: 1507.55 | K85: =SUM(L85:O85) -> 17771571 | L85: 0 | M85: 0 | N85: 0 | O85: =IFERROR( IF(LOOKUP(2,1/($R$16:$R85<>""),$R$16:$R85)="12.2026", VLOOKUP(LOOKUP(2,1/($B$16:$B85<>""),$B$16:$B85), [1]Лист1!$C$12:$D$1205, 2, 0), IF(LOOKUP(2,1/($R$16:$R85<>""),$R$16:$R85)="12.2027", VLOOKUP(LOOKUP(2,1/($B$16:$B85<>""),$B$16:$B85), [1]Лист1!$C$1209:$D$2016, 2, 0), IF(LOOKUP(2,1/($R$16:$R85<>""),$R$16:$R85)="12.2028", VLOOKUP(LOOKUP(2,1/($B$16:$B85<>""),$B$16:$B85), [1]Лист1!$C$2020:$D$2907, 2, 0), ""))), "") -> 17771571 | P85: =K85/H85 -> 11788.379 | Q85: 9673 | R85: 12.2028
A86: =IF(B86<>"",MAX(A$1:A85)+1,"") -> 66 | B86: Г. Вязьма, ул. Красноармейское шоссе, д. 5а | C86: 1973 | D86: - | E86: кирпич | F86: 5 | G86: 6 | H86: 5925.8 | I86: 0 | J86: 4431.66 | K86: =SUM(L86:O86) -> 38239557 | L86: 0 | M86: 0 | N86: 0 | O86: =IFERROR( IF(LOOKUP(2,1/($R$16:$R86<>""),$R$16:$R86)="12.2026", VLOOKUP(LOOKUP(2,1/($B$16:$B86<>""),$B$16:$B86), [1]Лист1!$C$12:$D$1205, 2, 0), IF(LOOKUP(2,1/($R$16:$R86<>""),$R$16:$R86)="12.2027", VLOOKUP(LOOKUP(2,1/($B$16:$B86<>""),$B$16:$B86), [1]Лист1!$C$1209:$D$2016, 2, 0), IF(LOOKUP(2,1/($R$16:$R86<>""),$R$16:$R86)="12.2028", VLOOKUP(LOOKUP(2,1/($B$16:$B86<>""),$B$16:$B86), [1]Лист1!$C$2020:$D$2907, 2, 0), ""))), "") -> 38239557 | P86: =K86/H86 -> 6453.0624 | Q86: 9673 | R86: 12.2028
A87: =IF(B87<>"",MAX(A$1:A86)+1,"") -> 67 | B87: Г. Вязьма, ул. Красноармейское шоссе, д. 9а | C87: 1970 | D87: - | E87: кирпич | F87: 5 | G87: 6 | H87: 6088.6 | I87: 0 | J87: 4501.28 | K87: =SUM(L87:O87) -> 45283699 | L87: 0 | M87: 0 | N87: 0 | O87: =IFERROR( IF(LOOKUP(2,1/($R$16:$R87<>""),$R$16:$R87)="12.2026", VLOOKUP(LOOKUP(2,1/($B$16:$B87<>""),$B$16:$B87), [1]Лист1!$C$12:$D$1205, 2, 0), IF(LOOKUP(2,1/($R$16:$R87<>""),$R$16:$R87)="12.2027", VLOOKUP(LOOKUP(2,1/($B$16:$B87<>""),$B$16:$B87), [1]Лист1!$C$1209:$D$2016, 2, 0), IF(LOOKUP(2,1/($R$16:$R87<>""),$R$16:$R87)="12.2028", VLOOKUP(LOOKUP(2,1/($B$16:$B87<>""),$B$16:$B87), [1]Лист1!$C$2020:$D$2907, 2, 0), ""))), "") -> 45283699 | P87: =K87/H87 -> 7437.4567 | Q87: 9673 | R87: 12.2028
A88: =IF(B88<>"",MAX(A$1:A87)+1,"") -> 68 | B88: Г. Вязьма, ул. Красноармейское шоссе, д. 11а | C88: 1972 | D88: - | E88: кирпич | F88: 5 | G88: 6 | H88: 2963.6 | I88: 0 | J88: 2963.6 | K88: =SUM(L88:O88) -> 31348461 | L88: 0 | M88: 0 | N88: 0 | O88: =IFERROR( IF(LOOKUP(2,1/($R$16:$R88<>""),$R$16:$R88)="12.2026", VLOOKUP(LOOKUP(2,1/($B$16:$B88<>""),$B$16:$B88), [1]Лист1!$C$12:$D$1205, 2, 0), IF(LOOKUP(2,1/($R$16:$R88<>""),$R$16:$R88)="12.2027", VLOOKUP(LOOKUP(2,1/($B$16:$B88<>""),$B$16:$B88), [1]Лист1!$C$1209:$D$2016, 2, 0), IF(LOOKUP(2,1/($R$16:$R88<>""),$R$16:$R88)="12.2028", VLOOKUP(LOOKUP(2,1/($B$16:$B88<>""),$B$16:$B88), [1]Лист1!$C$2020:$D$2907, 2, 0), ""))), "") -> 31348461 | P88: =K88/H88 -> 10577.831 | Q88: 9673 | R88: 12.2028
A89: =IF(B89<>"",MAX(A$1:A88)+1,"") -> 69 | B89: Г. Вязьма, ул. Красноармейское шоссе, д. 13а | C89: 1968 | D89: - | E89: кирпич | F89: 5 | G89: 4 | H89: 2560.4 | I89: 0 | J89: 2560.4 | K89: =SUM(L89:O89) -> 67889.85 | L89: 0 | M89: 0 | N89: 0 | O89: =IFERROR( IF(LOOKUP(2,1/($R$16:$R89<>""),$R$16:$R89)="12.2026", VLOOKUP(LOOKUP(2,1/($B$16:$B89<>""),$B$16:$B89), [1]Лист1!$C$12:$D$1205, 2, 0), IF(LOOKUP(2,1/($R$16:$R89<>""),$R$16:$R89)="12.2027", VLOOKUP(LOOKUP(2,1/($B$16:$B89<>""),$B$16:$B89), [1]Лист1!$C$1209:$D$2016, 2, 0), IF(LOOKUP(2,1/($R$16:$R89<>""),$R$16:$R89)="12.2028", VLOOKUP(LOOKUP(2,1/($B$16:$B89<>""),$B$16:$B89), [1]Лист1!$C$2020:$D$2907, 2, 0), ""))), "") -> 67889.85 | P89: =K89/H89 -> 26.51533 | Q89: 9673 | R89: 12.2027
A90: =IF(B90<>"",MAX(A$1:A89)+1,"") -> 70 | B90: Г. Вязьма, ул. Красноармейское шоссе, д. 15 | C90: 1961 | D90: - | E90: кирпич | F90: 4 | G90: 2 | H90: 1283.2 | I90: 0 | J90: 1283.2 | K90: =SUM(L90:O90) -> 60769.55 | L90: 0 | M90: 0 | N90: 0 | O90: =IFERROR( IF(LOOKUP(2,1/($R$16:$R90<>""),$R$16:$R90)="12.2026", VLOOKUP(LOOKUP(2,1/($B$16:$B90<>""),$B$16:$B90), [1]Лист1!$C$12:$D$1205, 2, 0), IF(LOOKUP(2,1/($R$16:$R90<>""),$R$16:$R90)="12.2027", VLOOKUP(LOOKUP(2,1/($B$16:$B90<>""),$B$16:$B90), [1]Лист1!$C$1209:$D$2016, 2, 0), IF(LOOKUP(2,1/($R$16:$R90<>""),$R$16:$R90)="12.2028", VLOOKUP(LOOKUP(2,1/($B$16:$B90<>""),$B$16:$B90), [1]Лист1!$C$2020:$D$2907, 2, 0), ""))), "") -> 60769.55 | P90: =K90/H90 -> 47.357816 | Q90: 9673 | R90: 12.2027
A91: =IF(B91<>"",MAX(A$1:A90)+1,"") -> 71 | B91: Г. Вязьма, ул. Кронштадтская, д. 1 | C91: 1965 | D91: - | E91: кирпич | F91: 4 | G91: 3 | H91: 1998 | I91: 0 | J91: 1787.78 | K91: =SUM(L91:O91) -> 7690352 | L91: 0 | M91: 0 | N91: 0 | O91: =IFERROR( IF(LOOKUP(2,1/($R$16:$R91<>""),$R$16:$R91)="12.2026", VLOOKUP(LOOKUP(2,1/($B$16:$B91<>""),$B$16:$B91), [1]Лист1!$C$12:$D$1205, 2, 0), IF(LOOKUP(2,1/($R$16:$R91<>""),$R$16:$R91)="12.2027", VLOOKUP(LOOKUP(2,1/($B$16:$B91<>""),$B$16:$B91), [1]Лист1!$C$1209:$D$2016, 2, 0), IF(LOOKUP(2,1/($R$16:$R91<>""),$R$16:$R91)="12.2028", VLOOKUP(LOOKUP(2,1/($B$16:$B91<>""),$B$16:$B91), [1]Лист1!$C$2020:$D$2907, 2, 0), ""))), "") -> 7690352 | P91: =K91/H91 -> 3849.025 | Q91: 9673 | R91: 12.2028
A92: =IF(B91<>"",MAX(A$1:A91)+1,"") -> 72 | B92: Г. Вязьма, ул. Кронштадтская, д. 2 | C92: 1965 | D92: - | E92: кирпич | F92: 4 | G92: 5 | H92: 1186.69 | I92: 0 | J92: 1049.71 | K92: =SUM(L92:O92) -> 4735250 | L92: 0 | M92: 0 | N92: 0 | O92: =IFERROR( IF(LOOKUP(2,1/($R$16:$R92<>""),$R$16:$R92)="12.2026", VLOOKUP(LOOKUP(2,1/($B$16:$B92<>""),$B$16:$B92), [1]Лист1!$C$12:$D$1205, 2, 0), IF(LOOKUP(2,1/($R$16:$R92<>""),$R$16:$R92)="12.2027", VLOOKUP(LOOKUP(2,1/($B$16:$B92<>""),$B$16:$B92), [1]Лист1!$C$1209:$D$2016, 2, 0), IF(LOOKUP(2,1/($R$16:$R92<>""),$R$16:$R92)="12.2028", VLOOKUP(LOOKUP(2,1/($B$16:$B92<>""),$B$16:$B92), [1]Лист1!$C$2020:$D$2907, 2, 0), ""))), "") -> 4735250 | P92: =K92/H92 -> 3990.3008 | Q92: 9673 | R92: 12.2026
K93: =SUM(L93:O93) -> 8714002.6 | L93: 0 | M93: 0 | N93: 0 | O93: =IFERROR( IF(LOOKUP(2,1/($R$16:$R93<>""),$R$16:$R93)="12.2026", VLOOKUP(LOOKUP(2,1/($B$16:$B93<>""),$B$16:$B93), [1]Лист1!$C$12:$D$1205, 2, 0), IF(LOOKUP(2,1/($R$16:$R93<>""),$R$16:$R93)="12.2027", VLOOKUP(LOOKUP(2,1/($B$16:$B93<>""),$B$16:$B93), [1]Лист1!$C$1209:$D$2016, 2, 0), IF(LOOKUP(2,1/($R$16:$R93<>""),$R$16:$R93)="12.2028", VLOOKUP(LOOKUP(2,1/($B$16:$B93<>""),$B$16:$B93), [1]Лист1!$C$2020:$D$2907, 2, 0), ""))), "") -> 8714002.6 | P93: =K93/H92 -> 7343.1162 | Q93: 9673 | R93: 12.2028
A94: =IF(B94<>"",MAX(A$1:A93)+1,"") -> 73 | B94: Г. Вязьма, ул. Кронштадтская, д. 5 | C94: 1968 | D94: - | E94: кирпич | F94: 5 | G94: 4 | H94: 2566.8 | I94: 0 | J94: 2566.78 | K94: =SUM(L94:O94) -> 68014.14 | L94: 0 | M94: 0 | N94: 0 | O94: =IFERROR( IF(LOOKUP(2,1/($R$16:$R94<>""),$R$16:$R94)="12.2026", VLOOKUP(LOOKUP(2,1/($B$16:$B94<>""),$B$16:$B94), [1]Лист1!$C$12:$D$1205, 2, 0), IF(LOOKUP(2,1/($R$16:$R94<>""),$R$16:$R94)="12.2027", VLOOKUP(LOOKUP(2,1/($B$16:$B94<>""),$B$16:$B94), [1]Лист1!$C$1209:$D$2016, 2, 0), IF(LOOKUP(2,1/($R$16:$R94<>""),$R$16:$R94)="12.2028", VLOOKUP(LOOKUP(2,1/($B$16:$B94<>""),$B$16:$B94), [1]Лист1!$C$2020:$D$2907, 2, 0), ""))), "") -> 68014.14 | P94: =K94/H94 -> 26.497639 | Q94: 9673 | R94: 12.2027
A95: =IF(B95<>"",MAX(A$1:A94)+1,"") -> 74 | B95: Г. Вязьма, ул. Кронштадтская, д. 23 | C95: 1976 | D95: - | E95: кирпич | F95: 5 | G95: 6 | H95: 5853.78 | I95: 169.1 | J95: 4321.74 | K95: =SUM(L95:O95) -> 37172829 | L95: 0 | M95: 0 | N95: 0 | O95: =IFERROR( IF(LOOKUP(2,1/($R$16:$R95<>""),$R$16:$R95)="12.2026", VLOOKUP(LOOKUP(2,1/($B$16:$B95<>""),$B$16:$B95), [1]Лист1!$C$12:$D$1205, 2, 0), IF(LOOKUP(2,1/($R$16:$R95<>""),$R$16:$R95)="12.2027", VLOOKUP(LOOKUP(2,1/($B$16:$B95<>""),$B$16:$B95), [1]Лист1!$C$1209:$D$2016, 2, 0), IF(LOOKUP(2,1/($R$16:$R95<>""),$R$16:$R95)="12.2028", VLOOKUP(LOOKUP(2,1/($B$16:$B95<>""),$B$16:$B95), [1]Лист1!$C$2020:$D$2907, 2, 0), ""))), "") -> 37172829 | P95: =K95/H95 -> 6350.2265 | Q95: 9673 | R95: 12.2028
A96: =IF(B96<>"",MAX(A$1:A95)+1,"") -> 75 | B96: Г. Вязьма, ул. Кронштадтская, д. 25 | C96: 1973 | D96: - | E96: кирпич | F96: 5 | G96: 6 | H96: 4450.8 | I96: 0 | J96: 4448.35 | K96: =SUM(L96:O96) -> 35286001 | L96: 0 | M96: 0 | N96: 0 | O96: =IFERROR( IF(LOOKUP(2,1/($R$16:$R96<>""),$R$16:$R96)="12.2026", VLOOKUP(LOOKUP(2,1/($B$16:$B96<>""),$B$16:$B96), [1]Лист1!$C$12:$D$1205, 2, 0), IF(LOOKUP(2,1/($R$16:$R96<>""),$R$16:$R96)="12.2027", VLOOKUP(LOOKUP(2,1/($B$16:$B96<>""),$B$16:$B96), [1]Лист1!$C$1209:$D$2016, 2, 0), IF(LOOKUP(2,1/($R$16:$R96<>""),$R$16:$R96)="12.2028", VLOOKUP(LOOKUP(2,1/($B$16:$B96<>""),$B$16:$B96), [1]Лист1!$C$2020:$D$2907, 2, 0), ""))), "") -> 35286001 | P96: =K96/H96 -> 7928.0132 | Q96: 9673 | R96: 12.2028
A97: =IF(B97<>"",MAX(A$1:A96)+1,"") -> 76 | B97: Г. Вязьма, ул. Кронштадтская, д. 35 | C97: 1975 | D97: - | E97: кирпич | F97: 5 | G97: 2 | H97: 2420.62 | I97: 0 | J97: 2310.62 | K97: =SUM(L97:O97) -> 13045467 | L97: 0 | M97: 0 | N97: 0 | O97: =IFERROR( IF(LOOKUP(2,1/($R$16:$R97<>""),$R$16:$R97)="12.2026", VLOOKUP(LOOKUP(2,1/($B$16:$B97<>""),$B$16:$B97), [1]Лист1!$C$12:$D$1205, 2, 0), IF(LOOKUP(2,1/($R$16:$R97<>""),$R$16:$R97)="12.2027", VLOOKUP(LOOKUP(2,1/($B$16:$B97<>""),$B$16:$B97), [1]Лист1!$C$1209:$D$2016, 2, 0), IF(LOOKUP(2,1/($R$16:$R97<>""),$R$16:$R97)="12.2028", VLOOKUP(LOOKUP(2,1/($B$16:$B97<>""),$B$16:$B97), [1]Лист1!$C$2020:$D$2907, 2, 0), ""))), "") -> 13045467 | P97: =K97/H97 -> 5389.3082 | Q97: 9673 | R97: 12.2026
A98: =IF(B98<>"",MAX(A$1:A97)+1,"") -> 77 | B98: Г. Вязьма, ул. Лейтенанта Шмидта, д. 10 | C98: 1971 | D98: - | E98: кирпич | F98: 5 | G98: 4 | H98: 4434.5 | I98: 0 | J98: 3296.99 | K98: =SUM(L98:O98) -> 31793419 | L98: 0 | M98: 0 | N98: 0 | O98: =IFERROR( IF(LOOKUP(2,1/($R$16:$R98<>""),$R$16:$R98)="12.2026", VLOOKUP(LOOKUP(2,1/($B$16:$B98<>""),$B$16:$B98), [1]Лист1!$C$12:$D$1205, 2, 0), IF(LOOKUP(2,1/($R$16:$R98<>""),$R$16:$R98)="12.2027", VLOOKUP(LOOKUP(2,1/($B$16:$B98<>""),$B$16:$B98), [1]Лист1!$C$1209:$D$2016, 2, 0), IF(LOOKUP(2,1/($R$16:$R98<>""),$R$16:$R98)="12.2028", VLOOKUP(LOOKUP(2,1/($B$16:$B98<>""),$B$16:$B98), [1]Лист1!$C$2020:$D$2907, 2, 0), ""))), "") -> 31793419 | P98: =K98/H98 -> 7169.5611 | Q98: 9673 | R98: 12.2028
A99: =IF(B99<>"",MAX(A$1:A98)+1,"") -> 78 | B99: Г. Вязьма, ул. Лейтенанта Шмидта, д. 10а | C99: 1976 | D99: - | E99: кирпич | F99: 5 | G99: 2 | H99: 2376.93 | I99: 0 | J99: 1669.51 | K99: =SUM(L99:O99) -> 2811888 | L99: 0 | M99: 0 | N99: 0 | O99: =IFERROR( IF(LOOKUP(2,1/($R$16:$R99<>""),$R$16:$R99)="12.2026", VLOOKUP(LOOKUP(2,1/($B$16:$B99<>""),$B$16:$B99), [1]Лист1!$C$12:$D$1205, 2, 0), IF(LOOKUP(2,1/($R$16:$R99<>""),$R$16:$R99)="12.2027", VLOOKUP(LOOKUP(2,1/($B$16:$B99<>""),$B$16:$B99), [1]Лист1!$C$1209:$D$2016, 2, 0), IF(LOOKUP(2,1/($R$16:$R99<>""),$R$16:$R99)="12.2028", VLOOKUP(LOOKUP(2,1/($B$16:$B99<>""),$B$16:$B99), [1]Лист1!$C$2020:$D$2907, 2, 0), ""))), "") -> 2811888 | P99: =K99/H99 -> 1182.9915 | Q99: 9673 | R99: 12.2026
A100: =IF(B100<>"",MAX(A$1:A99)+1,"") -> 79 | B100: Г. Вязьма, ул. Лейтенанта Шмидта, д. 12 | C100: 1970 | D100: - | E100: кирпич | F100: 5 | G100: 4 | H100: 4415.4 | I100: 117.3 | J100: 3185.24 | K100: =SUM(L100:O100) -> 31991037 | L100: 0 | M100: 0 | N100: 0 | O100: =IFERROR( IF(LOOKUP(2,1/($R$16:$R100<>""),$R$16:$R100)="12.2026", VLOOKUP(LOOKUP(2,1/($B$16:$B100<>""),$B$16:$B100), [1]Лист1!$C$12:$D$1205, 2, 0), IF(LOOKUP(2,1/($R$16:$R100<>""),$R$16:$R100)="12.2027", VLOOKUP(LOOKUP(2,1/($B$16:$B100<>""),$B$16:$B100), [1]Лист1!$C$1209:$D$2016, 2, 0), IF(LOOKUP(2,1/($R$16:$R100<>""),$R$16:$R100)="12.2028", VLOOKUP(LOOKUP(2,1/($B$16:$B100<>""),$B$16:$B100), [1]Лист1!$C$2020:$D$2907, 2, 0), ""))), "") -> 31991037 | P100: =K100/H100 -> 7245.3315 | Q100: 9673 | R100: 12.2028
A101: =IF(B101<>"",MAX(A$1:A100)+1,"") -> 80 | B101: Г. Вязьма, ул. Ленина, д. 3 | C101: 1951 | D101: - | E101: кирпич | F101: 3 | G101: 2 | H101: 1358.49 | I101: 89.02 | J101: 1033.53 | K101: =SUM(L101:O101) -> 4876300 | L101: 0 | M101: 0 | N101: 0 | O101: =IFERROR( IF(LOOKUP(2,1/($R$16:$R101<>""),$R$16:$R101)="12.2026", VLOOKUP(LOOKUP(2,1/($B$16:$B101<>""),$B$16:$B101), [1]Лист1!$C$12:$D$1205, 2, 0), IF(LOOKUP(2,1/($R$16:$R101<>""),$R$16:$R101)="12.2027", VLOOKUP(LOOKUP(2,1/($B$16:$B101<>""),$B$16:$B101), [1]Лист1!$C$1209:$D$2016, 2, 0), IF(LOOKUP(2,1/($R$16:$R101<>""),$R$16:$R101)="12.2028", VLOOKUP(LOOKUP(2,1/($B$16:$B101<>""),$B$16:$B101), [1]Лист1!$C$2020:$D$2907, 2, 0), ""))), "") -> 4876300 | P101: =K101/H101 -> 3589.5001 | Q101: 9673 | R101: 12.2026
A102: =IF(B102<>"",MAX(A$1:A101)+1,"") -> 81 | B102: Г. Вязьма, ул. Ленина, д. 6 | C102: 1950 | D102: - | E102: кирпич | F102: 2 | G102: 1 | H102: 393.4 | I102: 0 | J102: 361.2 | K102: =SUM(L102:O102) -> 2441250 | L102: 0 | M102: 0 | N102: 0 | O102: =IFERROR( IF(LOOKUP(2,1/($R$16:$R102<>""),$R$16:$R102)="12.2026", VLOOKUP(LOOKUP(2,1/($B$16:$B102<>""),$B$16:$B102), [1]Лист1!$C$12:$D$1205, 2, 0), IF(LOOKUP(2,1/($R$16:$R102<>""),$R$16:$R102)="12.2027", VLOOKUP(LOOKUP(2,1/($B$16:$B102<>""),$B$16:$B102), [1]Лист1!$C$1209:$D$2016, 2, 0), IF(LOOKUP(2,1/($R$16:$R102<>""),$R$16:$R102)="12.2028", VLOOKUP(LOOKUP(2,1/($B$16:$B102<>""),$B$16:$B102), [1]Лист1!$C$2020:$D$2907, 2, 0), ""))), "") -> 2441250 | P102: =K102/H102 -> 6205.516 | Q102: 9673 | R102: 12.2027
A103: =IF(B103<>"",MAX(A$1:A102)+1,"") -> 82 | B103: Г. Вязьма, ул. Ленина, д. 8 | C103: 1946 | D103: - | E103: кирпич | F103: 2 | G103: 1 | H103: 340.71 | I103: 107 | J103: 233.03 | K103: =SUM(L103:O103) -> 6865.12 | L103: 0 | M103: 0 | N103: 0 | O103: =IFERROR( IF(LOOKUP(2,1/($R$16:$R103<>""),$R$16:$R103)="12.2026", VLOOKUP(LOOKUP(2,1/($B$16:$B103<>""),$B$16:$B103), [1]Лист1!$C$12:$D$1205, 2, 0), IF(LOOKUP(2,1/($R$16:$R103<>""),$R$16:$R103)="12.2027", VLOOKUP(LOOKUP(2,1/($B$16:$B103<>""),$B$16:$B103), [1]Лист1!$C$1209:$D$2016, 2, 0), IF(LOOKUP(2,1/($R$16:$R103<>""),$R$16:$R103)="12.2028", VLOOKUP(LOOKUP(2,1/($B$16:$B103<>""),$B$16:$B103), [1]Лист1!$C$2020:$D$2907, 2, 0), ""))), "") -> 6865.12 | P103: =K103/H103 -> 20.149453 | Q103: 9673 | R103: 12.2026
A104: =IF(B104<>"",MAX(A$1:A103)+1,"") -> 83 | B104: Г. Вязьма, ул. Ленина, д. 10 | C104: 1945 | D104: - | E104: кирпич | F104: 2 | G104: 1 | H104: 339.7 | I104: 0 | J104: 222.61 | K104: =SUM(L104:O104) -> 1349012.8 | L104: 0 | M104: 0 | N104: 0 | O104: =IFERROR( IF(LOOKUP(2,1/($R$16:$R104<>""),$R$16:$R104)="12.2026", VLOOKUP(LOOKUP(2,1/($B$16:$B104<>""),$B$16:$B104), [1]Лист1!$C$12:$D$1205, 2, 0), IF(LOOKUP(2,1/($R$16:$R104<>""),$R$16:$R104)="12.2027", VLOOKUP(LOOKUP(2,1/($B$16:$B104<>""),$B$16:$B104), [1]Лист1!$C$1209:$D$2016, 2, 0), IF(LOOKUP(2,1/($R$16:$R104<>""),$R$16:$R104)="12.2028", VLOOKUP(LOOKUP(2,1/($B$16:$B104<>""),$B$16:$B104), [1]Лист1!$C$2020:$D$2907, 2, 0), ""))), "") -> 1349012.8 | P104: =K104/H104 -> 3971.1887 | Q104: 9673 | R104: 12.2027
A105: =IF(B105<>"",MAX(A$1:A104)+1,"") -> 84 | B105: Г. Вязьма, ул. Ленина, д. 12 | C105: 1987 | D105: - | E105: кирпич | F105: 3 | G105: 2 | H105: 1364.4 | I105: 0 | J105: 1364.4 | K105: =SUM(L105:O105) -> 61158.23 | L105: 0 | M105: 0 | N105: 0 | O105: =IFERROR( IF(LOOKUP(2,1/($R$16:$R105<>""),$R$16:$R105)="12.2026", VLOOKUP(LOOKUP(2,1/($B$16:$B105<>""),$B$16:$B105), [1]Лист1!$C$12:$D$1205, 2, 0), IF(LOOKUP(2,1/($R$16:$R105<>""),$R$16:$R105)="12.2027", VLOOKUP(LOOKUP(2,1/($B$16:$B105<>""),$B$16:$B105), [1]Лист1!$C$1209:$D$2016, 2, 0), IF(LOOKUP(2,1/($R$16:$R105<>""),$R$16:$R105)="12.2028", VLOOKUP(LOOKUP(2,1/($B$16:$B105<>""),$B$16:$B105), [1]Лист1!$C$2020:$D$2907, 2, 0), ""))), "") -> 61158.23 | P105: =K105/H105 -> 44.824267 | Q105: 9673 | R105: 12.2027
... A110: =IF(B110<>"",MAX(A$1:A109)+1,"") -> 89 | B110: Г. Вязьма, ул. Ленина, д. 46 | C110: 1961 | D110: - | E110: кирпич | F110: 2 | G110: 2 | H110: 599 | I110: 68.4 | J110: 481.4 | K110: =SUM(L110:O110) -> 64800.82 | L110: 0 | M110: 0 | N110: 0 | O110: =IFERROR( IF(LOOKUP(2,1/($R$16:$R110<>""),$R$16:$R110)="12.2026", VLOOKUP(LOOKUP(2,1/($B$16:$B110<>""),$B$16:$B110), [1]Лист1!$C$12:$D$1205, 2, 0), IF(LOOKUP(2,1/($R$16:$R110<>""),$R$16:$R110)="12.2027", VLOOKUP(LOOKUP(2,1/($B$16:$B110<>""),$B$16:$B110), [1]Лист1!$C$1209:$D$2016, 2, 0), IF(LOOKUP(2,1/($R$16:$R110<>""),$R$16:$R110)="12.2028", VLOOKUP(LOOKUP(2,1/($B$16:$B110<>""),$B$16:$B110), [1]Лист1!$C$2020:$D$2907, 2, 0), ""))), "") -> 64800.82 | P110: =K110/H110 -> 108.18167 | Q110: 9673 | R110: 12.2027
A111: =IF(B111<>"",MAX(A$1:A110)+1,"") -> 90 | B111: Г. Вязьма, ул. Ленина, д. 48 | C111: 1973 | D111: 2008 | E111: кирпич | F111: 5 | G111: 6 | H111: 6123.59 | I111: 41.36 | J111: 4498.6 | K111: =SUM(L111:O111) -> 26963178 | L111: 0 | M111: 0 | N111: 0 | O111: =IFERROR( IF(LOOKUP(2,1/($R$16:$R111<>""),$R$16:$R111)="12.2026", VLOOKUP(LOOKUP(2,1/($B$16:$B111<>""),$B$16:$B111), [1]Лист1!$C$12:$D$1205, 2, 0), IF(LOOKUP(2,1/($R$16:$R111<>""),$R$16:$R111)="12.2027", VLOOKUP(LOOKUP(2,1/($B$16:$B111<>""),$B$16:$B111), [1]Лист1!$C$1209:$D$2016, 2, 0), IF(LOOKUP(2,1/($R$16:$R111<>""),$R$16:$R111)="12.2028", VLOOKUP(LOOKUP(2,1/($B$16:$B111<>""),$B$16:$B111), [1]Лист1!$C$2020:$D$2907, 2, 0), ""))), "") -> 26963178 | P111: =K111/H111 -> 4403.1651 | Q111: 9673 | R111: 12.2028
A112: =IF(B112<>"",MAX(A$1:A111)+1,"") -> 91 | B112: Г. Вязьма, ул. Ленина, д. 53а | C112: 1977 | D112: - | E112: кирпич | F112: 2 | G112: 1 | H112: 408.2 | I112: 0 | J112: 408.2 | K112: =SUM(L112:O112) -> 2981789 | L112: 0 | M112: 0 | N112: 0 | O112: =IFERROR( IF(LOOKUP(2,1/($R$16:$R112<>""),$R$16:$R112)="12.2026", VLOOKUP(LOOKUP(2,1/($B$16:$B112<>""),$B$16:$B112), [1]Лист1!$C$12:$D$1205, 2, 0), IF(LOOKUP(2,1/($R$16:$R112<>""),$R$16:$R112)="12.2027", VLOOKUP(LOOKUP(2,1/($B$16:$B112<>""),$B$16:$B112), [1]Лист1!$C$1209:$D$2016, 2, 0), IF(LOOKUP(2,1/($R$16:$R112<>""),$R$16:$R112)="12.2028", VLOOKUP(LOOKUP(2,1/($B$16:$B112<>""),$B$16:$B112), [1]Лист1!$C$2020:$D$2907, 2, 0), ""))), "") -> 2981789 | P112: =K112/H112 -> 7304.7256 | Q112: 9673 | R112: 12.2028
A113: =IF(B113<>"",MAX(A$1:A112)+1,"") -> 92 | B113: Г. Вязьма, ул. Ленина, д. 63 | C113: 1967 | D113: 2008 | E113: кирпич | F113: 4 | G113: 3 | H113: 1906.9 | I113: 65.5 | J113: 1306.36 | K113: =SUM(L113:O113) -> 12405836 | L113: 0 | M113: 0 | N113: 0 | O113: =IFERROR( IF(LOOKUP(2,1/($R$16:$R113<>""),$R$16:$R113)="12.2026", VLOOKUP(LOOKUP(2,1/($B$16:$B113<>""),$B$16:$B113), [1]Лист1!$C$12:$D$1205, 2, 0), IF(LOOKUP(2,1/($R$16:$R113<>""),$R$16:$R113)="12.2027", VLOOKUP(LOOKUP(2,1/($B$16:$B113<>""),$B$16:$B113), [1]Лист1!$C$1209:$D$2016, 2, 0), IF(LOOKUP(2,1/($R$16:$R113<>""),$R$16:$R113)="12.2028", VLOOKUP(LOOKUP(2,1/($B$16:$B113<>""),$B$16:$B113), [1]Лист1!$C$2020:$D$2907, 2, 0), ""))), "") -> 12405836 | P113: =K113/H113 -> 6505.761 | Q113: 9673 | R113: 12.2028
A114: =IF(B114<>"",MAX(A$1:A113)+1,"") -> 93 | B114: Г. Вязьма, ул. Ленина, д. 63а | C114: 1970 | D114: - | E114: кирпич | F114: 5 | G114: 3 | H114: 3489.5 | I114: 143.08 | J114: 3006.76 | K114: =SUM(L114:O114) -> 25669848 | L114: 0 | M114: 0 | N114: 0 | O114: =IFERROR( IF(LOOKUP(2,1/($R$16:$R114<>""),$R$16:$R114)="12.2026", VLOOKUP(LOOKUP(2,1/($B$16:$B114<>""),$B$16:$B114), [1]Лист1!$C$12:$D$1205, 2, 0), IF(LOOKUP(2,1/($R$16:$R114<>""),$R$16:$R114)="12.2027", VLOOKUP(LOOKUP(2,1/($B$16:$B114<>""),$B$16:$B114), [1]Лист1!$C$1209:$D$2016, 2, 0), IF(LOOKUP(2,1/($R$16:$R114<>""),$R$16:$R114)="12.2028", VLOOKUP(LOOKUP(2,1/($B$16:$B114<>""),$B$16:$B114), [1]Лист1!$C$2020:$D$2907, 2, 0), ""))), "") -> 25669848 | P114: =K114/H114 -> 7356.3112 | Q114: 9673 | R114: 12.2027
A115: =IF(B115<>"",MAX(A$1:A114)+1,"") -> 94 | B115: Г. Вязьма, ул. Ленина, д. 63б | C115: 1973 | D115: - | E115: кирпич | F115: 5 | G115: 4 | H115: 3305.1 | I115: 0 | J115: 2995.38 | K115: =SUM(L115:O115) -> 23838274 | L115: 0 | M115: 0 | N115: 0 | O115: =IFERROR( IF(LOOKUP(2,1/($R$16:$R115<>""),$R$16:$R115)="12.2026", VLOOKUP(LOOKUP(2,1/($B$16:$B115<>""),$B$16:$B115), [1]Лист1!$C$12:$D$1205, 2, 0), IF(LOOKUP(2,1/($R$16:$R115<>""),$R$16:$R115)="12.2027", VLOOKUP(LOOKUP(2,1/($B$16:$B115<>""),$B$16:$B115), [1]Лист1!$C$1209:$D$2016, 2, 0), IF(LOOKUP(2,1/($R$16:$R115<>""),$R$16:$R115)="12.2028", VLOOKUP(LOOKUP(2,1/($B$16:$B115<>""),$B$16:$B115), [1]Лист1!$C$2020:$D$2907, 2, 0), ""))), "") -> 23838274 | P115: =K115/H115 -> 7212.5728 | Q115: 9673 | R115: 12.2028
A116: =IF(B116<>"",MAX(A$1:A115)+1,"") -> 95 | B116: Г. Вязьма, ул. Ленина, д. 65 | C116: 1964 | D116: - | E116: кирпич | F116: 4 | G116: 2 | H116: 1748.74 | I116: 139.1 | J116: 1231.8 | K116: =SUM(L116:O116) -> 15794965 | L116: 0 | M116: 0 | N116: 0 | O116: =IFERROR( IF(LOOKUP(2,1/($R$16:$R116<>""),$R$16:$R116)="12.2026", VLOOKUP(LOOKUP(2,1/($B$16:$B116<>""),$B$16:$B116), [1]Лист1!$C$12:$D$1205, 2, 0), IF(LOOKUP(2,1/($R$16:$R116<>""),$R$16:$R116)="12.2027", VLOOKUP(LOOKUP(2,1/($B$16:$B116<>""),$B$16:$B116), [1]Лист1!$C$1209:$D$2016, 2, 0), IF(LOOKUP(2,1/($R$16:$R116<>""),$R$16:$R116)="12.2028", VLOOKUP(LOOKUP(2,1/($B$16:$B116<>""),$B$16:$B116), [1]Лист1!$C$2020:$D$2907, 2, 0), ""))), "") -> 15794965 | P116: =O116/H116 -> 9032.1977 | Q116: 9673 | R116: 12.2026
...
