Workbook
Name _GoBack: Прилож!$B$2496
Name мп: #REF!
Name Перечень: #REF!
Name Перечень2: #REF!
Name Перечень3: #REF!

Sheet Прилож
N1: Приложение к распоряжению Правительства Смоленской области от 21.07.2025 № 975-рп (в редакции распоряжений Правительства Смоленской области от 03.10.2025 № 1349-рп, от 10.03.2026 № 233-рп, от 10.06.2026 № 668-рп, от 28.07.2026 № 927-рп, от 29.10.2026 № 1309-рп)
A4: КРАТКОСРОЧНЫЙ ПЛАН реализации Региональной программы капитального ремонта общего имущества в многоквартирных домах, расположенных на территории Смоленской области, на 2014-2055 годы на 2026-2028 годы
A6: Раздел 1. Перечень многоквартирных домов, в отношении которых планируется проведение капитального ремонта общего имущества
A8: № п/п | B8: Адрес многоквартирного дома (далее - МКД) | C8: Год | E8: Материал стен | F8: Количество этажей | G8: Количество подъездов | H8: Общая площадь МКД, всего | I8: Площадь помещений МКД | K8: Стоимость капитального ремонта | P8: Удельная стоимость капитального ремонта 1 кв. м общей площади помещений МКД | Q8: Предельная стоимость капитального ремонта 1 кв. м общей площади помещений МКД | R8: Плановая дата завершения работ
C9: ввода в эксплуатацию | D9: завершения последнего капитального ремонта | I9: нежилых | J9: жилых | K9: всего | L9: в том числе
L10: за счет средств Фонда содействия реформированию ЖКХ | M10: за счет средств областного бюджета | N10: за счет средств местного бюджета | O10: за счет средств собственников помещений в МКД
H11: кв. м | I11: кв. м | J11: кв. м | K11: руб. | L11: руб. | M11: руб. | N11: руб. | O11: руб. | P11: руб./кв. м | Q11: руб./кв. м
A12: 1 | B12: 2 | C12: 3 | D12: 4 | E12: 5 | F12: 6 | G12: 7 | H12: 8 | I12: 9 | J12: 10 | K12: 11 | L12: 12 | M12: 13 | N12: 14 | O12: 15 | P12: 16 | Q12: 17 | R12: 18
A13: Итого по Смоленской области | C13: х | D13: х | E13: х | F13: х | G13: х | H13: =H15+H37+H266+H350+H355+H383+H447+H525+H554+H603+H612+H638+H674+H707+H718+H814+H943+H1028+H1186+H2454+H2586+H2631+H2636+H2661+H2678+H2695+H2728 -> 7461730.2 | I13: =I15+I37+I266+I350+I355+I383+I447+I525+I554+I603+I612+I638+I674+I707+I718+I814+I943+I1028+I1186+I2454+I2586+I2631+I2636+I2661+I2678+I2695+I2728 -> 239239.05 | J13: =J15+J37+J266+J350+J355+J383+J447+J525+J554+J603+J612+J638+J674+J707+J718+J814+J943+J1028+J1186+J2454+J2586+J2631+J2636+J2661+J2678+J2695+J2728 -> 5639339.3 | K13: =K15+K37+K266+K350+K355+K383+K447+K525+K554+K603+K612+K638+K674+K707+K718+K814+K943+K1028+K1186+K2454+K2586+K2631+K2636+K2661+K2678+K2695+K2728 -> 2.3135388e+10 | L13: =L15+L37+L266+L350+L355+L383+L447+L525+L554+L603+L612+L638+L674+L707+L718+L814+L943+L1028+L1186+L2454+L2586+L2631+L2636+L2661+L2678+L2695+L2728 -> 0 | M13: =M15+M37+M266+M350+M355+M383+M447+M525+M554+M603+M612+M638+M674+M707+M718+M814+M943+M1028+M1186+M2454+M2586+M2631+M2636+M2661+M2678+M2695+M2728 -> 0 | N13: =N15+N37+N266+N350+N355+N383+N447+N525+N554+N603+N612+N638+N674+N707+N718+N814+N943+N1028+N1186+N2454+N2586+N2631+N2636+N2661+N2678+N2695+N2728 -> 0 | O13: =O15+O37+O266+O350+O355+O383+O447+O525+O554+O603+O612+O638+O674+O707+O718+O814+O943+O1028+O1186+O2454+O2586+O2631+O2636+O2661+O2678+O2695+O2728 -> 2.3135388e+10 | P13: =K13/H13 -> 3100.5394 | Q13: х | R13: х
A14: 1. Муниципальное образование «Велижский муниципальный округ» Смоленской области
A15: Итого по муниципальному образованию «Велижский муниципальный округ» Смоленской области | C15: х | D15: х | E15: х | F15: х | G15: х | H15: =SUM(H16:H35) -> 11263.62 | I15: =SUM(I16:I35) -> 901.8 | J15: =SUM(J16:J35) -> 8165.3 | K15: =SUM(K16:K35) -> 90617261 | L15: =SUM(L16:L35) -> 0 | M15: =SUM(M16:M35) -> 0 | N15: =SUM(N16:N35) -> 0 | O15: =SUM(O16:O35) -> 90617261 | P15: =K15/H15 -> 8045.1277 | Q15: х | R15: х
A16: 1 | B16: Г. Велиж, пер. Красноармейский, д. 1 | C16: 1971 | D16: - | E16: кирпич | F16: 2 | G16: 3 | H16: 509.3 | I16: 0 | J16: 509.3 | K16: =SUM(L16:O16) -> 64675.24 | L16: 0 | M16: 0 | N16: 0 | O16: =IFERROR( IF(LOOKUP(2,1/($R$16:$R16<>""),$R$16:$R16)="12.2026", VLOOKUP(LOOKUP(2,1/($B$16:$B16<>""),$B$16:$B16), [1]Лист1!$C$12:$D$1205, 2, 0), IF(LOOKUP(2,1/($R$16:$R16<>""),$R$16:$R16)="12.2027", VLOOKUP(LOOKUP(2,1/($B$16:$B16<>""),$B$16:$B16), [1]Лист1!$C$1209:$D$2016, 2, 0), IF(LOOKUP(2,1/($R$16:$R16<>""),$R$16:$R16)="12.2028", VLOOKUP(LOOKUP(2,1/($B$16:$B16<>""),$B$16:$B16), [1]Лист1!$C$2020:$D$2907, 2, 0), ""))), "") -> 64675.24 | P16: =K16/H16 -> 126.98849 | Q16: 9673 | R16: 12.2027
A17: =IF(B17<>"",MAX(A$1:A16)+1,"") -> 2 | B17: Г. Велиж, ул. Володарского, д. 167 | C17: 1982 | D17: - | E17: кирпич | F17: 2 | G17: 3 | H17: 858.2 | I17: 0 | J17: 858.2 | K17: =SUM(L17:O17) -> 3053200.6 | L17: 0 | M17: 0 | N17: 0 | O17: =IFERROR( IF(LOOKUP(2,1/($R$16:$R17<>""),$R$16:$R17)="12.2026", VLOOKUP(LOOKUP(2,1/($B$16:$B17<>""),$B$16:$B17), [1]Лист1!$C$12:$D$1205, 2, 0), IF(LOOKUP(2,1/($R$16:$R17<>""),$R$16:$R17)="12.2027", VLOOKUP(LOOKUP(2,1/($B$16:$B17<>""),$B$16:$B17), [1]Лист1!$C$1209:$D$2016, 2, 0), IF(LOOKUP(2,1/($R$16:$R17<>""),$R$16:$R17)="12.2028", VLOOKUP(LOOKUP(2,1/($B$16:$B17<>""),$B$16:$B17), [1]Лист1!$C$2020:$D$2907, 2, 0), ""))), "") -> 3053200.6 | P17: =K17/H17 -> 3557.6796 | Q17: 9673 | R17: 12.2028
A18: =IF(B18<>"",MAX(A$1:A17)+1,"") -> 3 | B18: Г. Велиж, ул. Володарского, д. 171 | C18: 1988 | D18: - | E18: ж/б панели | F18: 3 | G18: 2 | H18: 733.3 | I18: 431 | J18: 302.3 | K18: =SUM(L18:O18) -> 3885450.3 | L18: 0 | M18: 0 | N18: 0 | O18: =IFERROR( IF(LOOKUP(2,1/($R$16:$R18<>""),$R$16:$R18)="12.2026", VLOOKUP(LOOKUP(2,1/($B$16:$B18<>""),$B$16:$B18), [1]Лист1!$C$12:$D$1205, 2, 0), IF(LOOKUP(2,1/($R$16:$R18<>""),$R$16:$R18)="12.2027", VLOOKUP(LOOKUP(2,1/($B$16:$B18<>""),$B$16:$B18), [1]Лист1!$C$1209:$D$2016, 2, 0), IF(LOOKUP(2,1/($R$16:$R18<>""),$R$16:$R18)="12.2028", VLOOKUP(LOOKUP(2,1/($B$16:$B18<>""),$B$16:$B18), [1]Лист1!$C$2020:$D$2907, 2, 0), ""))), "") -> 3885450.3 | P18: 1403.25 | Q18: 9673 | R18: 12.2026
A19: =IF(B19<>"",MAX(A$1:A18)+1,"") -> 4 | B19: Г. Велиж, ул. Еременко, д. 25 | C19: 1972 | D19: - | E19: кирпич | F19: 2 | G19: 2 | H19: 377.6 | I19: 0 | J19: 377.6 | K19: =SUM(L19:O19) -> 50274.18 | L19: 0 | M19: 0 | N19: 0 | O19: =IFERROR( IF(LOOKUP(2,1/($R$16:$R19<>""),$R$16:$R19)="12.2026", VLOOKUP(LOOKUP(2,1/($B$16:$B19<>""),$B$16:$B19), [1]Лист1!$C$12:$D$1205, 2, 0), IF(LOOKUP(2,1/($R$16:$R19<>""),$R$16:$R19)="12.2027", VLOOKUP(LOOKUP(2,1/($B$16:$B19<>""),$B$16:$B19), [1]Лист1!$C$1209:$D$2016, 2, 0), IF(LOOKUP(2,1/($R$16:$R19<>""),$R$16:$R19)="12.2028", VLOOKUP(LOOKUP(2,1/($B$16:$B19<>""),$B$16:$B19), [1]Лист1!$C$2020:$D$2907, 2, 0), ""))), "") -> 50274.18 | P19: =K19/H19 -> 133.14137 | Q19: 9673 | R19: 12.2027
A20: =IF(B20<>"",MAX(A$1:A19)+1,"") -> 5 | B20: Г. Велиж, ул. Еременко, д. 27 | C20: 1969 | D20: - | E20: кирпич | F20: 2 | G20: 2 | H20: 387.2 | I20: 0 | J20: 387.2 | K20: =SUM(L20:O20) -> 5864444.8 | L20: 0 | M20: 0 | N20: 0 | O20: =IFERROR( IF(LOOKUP(2,1/($R$16:$R20<>""),$R$16:$R20)="12.2026", VLOOKUP(LOOKUP(2,1/($B$16:$B20<>""),$B$16:$B20), [1]Лист1!$C$12:$D$1205, 2, 0), IF(LOOKUP(2,1/($R$16:$R20<>""),$R$16:$R20)="12.2027", VLOOKUP(LOOKUP(2,1/($B$16:$B20<>""),$B$16:$B20), [1]Лист1!$C$1209:$D$2016, 2, 0), IF(LOOKUP(2,1/($R$16:$R20<>""),$R$16:$R20)="12.2028", VLOOKUP(LOOKUP(2,1/($B$16:$B20<>""),$B$16:$B20), [1]Лист1!$C$2020:$D$2907, 2, 0), ""))), "") -> 5864444.8 | P20: =K20/H20 -> 15145.777 | Q20: 9673 | R20: 12.2028
A21: =IF(B21<>"",MAX(A$1:A20)+1,"") -> 6 | B21: Г. Велиж, ул. Еременко, д. 29 | C21: 1973 | D21: - | E21: кирпич | F21: 2 | G21: 2 | H21: 530.9 | I21: 0 | J21: 530.9 | K21: =SUM(L21:O21) -> 67037.15 | L21: 0 | M21: 0 | N21: 0 | O21: =IFERROR( IF(LOOKUP(2,1/($R$16:$R21<>""),$R$16:$R21)="12.2026", VLOOKUP(LOOKUP(2,1/($B$16:$B21<>""),$B$16:$B21), [1]Лист1!$C$12:$D$1205, 2, 0), IF(LOOKUP(2,1/($R$16:$R21<>""),$R$16:$R21)="12.2027", VLOOKUP(LOOKUP(2,1/($B$16:$B21<>""),$B$16:$B21), [1]Лист1!$C$1209:$D$2016, 2, 0), IF(LOOKUP(2,1/($R$16:$R21<>""),$R$16:$R21)="12.2028", VLOOKUP(LOOKUP(2,1/($B$16:$B21<>""),$B$16:$B21), [1]Лист1!$C$2020:$D$2907, 2, 0), ""))), "") -> 67037.15 | P21: =K21/H21 -> 126.27077 | Q21: 9673 | R21: 12.2027
A22: =IF(B22<>"",MAX(A$1:A21)+1,"") -> 7 | B22: Г. Велиж, ул. Ивановская, д. 3 | C22: 1971 | D22: - | E22: кирпич | F22: 2 | G22: 2 | H22: 377.6 | I22: 0 | J22: 377.6 | K22: =SUM(L22:O22) -> 5676304.4 | L22: 0 | M22: 0 | N22: 0 | O22: =IFERROR( IF(LOOKUP(2,1/($R$16:$R22<>""),$R$16:$R22)="12.2026", VLOOKUP(LOOKUP(2,1/($B$16:$B22<>""),$B$16:$B22), [1]Лист1!$C$12:$D$1205, 2, 0), IF(LOOKUP(2,1/($R$16:$R22<>""),$R$16:$R22)="12.2027", VLOOKUP(LOOKUP(2,1/($B$16:$B22<>""),$B$16:$B22), [1]Лист1!$C$1209:$D$2016, 2, 0), IF(LOOKUP(2,1/($R$16:$R22<>""),$R$16:$R22)="12.2028", VLOOKUP(LOOKUP(2,1/($B$16:$B22<>""),$B$16:$B22), [1]Лист1!$C$2020:$D$2907, 2, 0), ""))), "") -> 5676304.4 | P22: =K22/H22 -> 15032.586 | Q22: 9673 | R22: 12.2028
A23: =IF(B23<>"",MAX(A$1:A22)+1,"") -> 8 | B23: Г. Велиж, ул. Ивановская, д. 5 | C23: 1972 | D23: - | E23: ж/б плиты | F23: 2 | G23: 2 | H23: 399.79 | I23: 0 | J23: 399.79 | K23: =SUM(L23:O23) -> 5709265 | L23: 0 | M23: 0 | N23: 0 | O23: =IFERROR( IF(LOOKUP(2,1/($R$16:$R23<>""),$R$16:$R23)="12.2026", VLOOKUP(LOOKUP(2,1/($B$16:$B23<>""),$B$16:$B23), [1]Лист1!$C$12:$D$1205, 2, 0), IF(LOOKUP(2,1/($R$16:$R23<>""),$R$16:$R23)="12.2027", VLOOKUP(LOOKUP(2,1/($B$16:$B23<>""),$B$16:$B23), [1]Лист1!$C$1209:$D$2016, 2, 0), IF(LOOKUP(2,1/($R$16:$R23<>""),$R$16:$R23)="12.2028", VLOOKUP(LOOKUP(2,1/($B$16:$B23<>""),$B$16:$B23), [1]Лист1!$C$2020:$D$2907, 2, 0), ""))), "") -> 5709265 | P23: =K23/H23 -> 14280.66 | Q23: 9673 | R23: 12.2028
A24: =IF(B24<>"",MAX(A$1:A23)+1,"") -> 9 | B24: Г. Велиж, ул. Ивановская, д. 11 | C24: 1969 | D24: - | E24: кирпич | F24: 2 | G24: 2 | H24: 751.8 | I24: 0 | J24: 377.6 | K24: =SUM(L24:O24) -> 9668806.2 | L24: 0 | M24: 0 | N24: 0 | O24: =IFERROR( IF(LOOKUP(2,1/($R$16:$R24<>""),$R$16:$R24)="12.2026", VLOOKUP(LOOKUP(2,1/($B$16:$B24<>""),$B$16:$B24), [1]Лист1!$C$12:$D$1205, 2, 0), IF(LOOKUP(2,1/($R$16:$R24<>""),$R$16:$R24)="12.2027", VLOOKUP(LOOKUP(2,1/($B$16:$B24<>""),$B$16:$B24), [1]Лист1!$C$1209:$D$2016, 2, 0), IF(LOOKUP(2,1/($R$16:$R24<>""),$R$16:$R24)="12.2028", VLOOKUP(LOOKUP(2,1/($B$16:$B24<>""),$B$16:$B24), [1]Лист1!$C$2020:$D$2907, 2, 0), ""))), "") -> 9668806.2 | P24: =K24/H24 -> 12860.875 | Q24: 9673 | R24: 12.2028
A25: =IF(B25<>"",MAX(A$1:A24)+1,"") -> 10 | B25: Г. Велиж, ул. Ивановская, д. 27 | C25: 1969 | D25: - | E25: кирпич | F25: 3 | G25: 2 | H25: 732.8 | I25: 0 | J25: 399.79 | K25: =SUM(L25:O25) -> 9047574.2 | L25: 0 | M25: 0 | N25: 0 | O25: =IFERROR( IF(LOOKUP(2,1/($R$16:$R25<>""),$R$16:$R25)="12.2026", VLOOKUP(LOOKUP(2,1/($B$16:$B25<>""),$B$16:$B25), [1]Лист1!$C$12:$D$1205, 2, 0), IF(LOOKUP(2,1/($R$16:$R25<>""),$R$16:$R25)="12.2027", VLOOKUP(LOOKUP(2,1/($B$16:$B25<>""),$B$16:$B25), [1]Лист1!$C$1209:$D$2016, 2, 0), IF(LOOKUP(2,1/($R$16:$R25<>""),$R$16:$R25)="12.2028", VLOOKUP(LOOKUP(2,1/($B$16:$B25<>""),$B$16:$B25), [1]Лист1!$C$2020:$D$2907, 2, 0), ""))), "") -> 9047574.2 | P25: =K25/H25 -> 12346.581 | Q25: 9673 | R25: 12.2028
A26: =IF(B26<>"",MAX(A$1:A25)+1,"") -> 11 | B26: Г. Велиж, ул. Казанская, д. 12 | C26: 1985 | D26: - | E26: кирпич | F26: 2 | G26: 2 | H26: 578.3 | I26: 0 | J26: 578.3 | K26: =SUM(L26:O26) -> 2136560 | L26: 0 | M26: 0 | N26: 0 | O26: =IFERROR( IF(LOOKUP(2,1/($R$16:$R26<>""),$R$16:$R26)="12.2026", VLOOKUP(LOOKUP(2,1/($B$16:$B26<>""),$B$16:$B26), [1]Лист1!$C$12:$D$1205, 2, 0), IF(LOOKUP(2,1/($R$16:$R26<>""),$R$16:$R26)="12.2027", VLOOKUP(LOOKUP(2,1/($B$16:$B26<>""),$B$16:$B26), [1]Лист1!$C$1209:$D$2016, 2, 0), IF(LOOKUP(2,1/($R$16:$R26<>""),$R$16:$R26)="12.2028", VLOOKUP(LOOKUP(2,1/($B$16:$B26<>""),$B$16:$B26), [1]Лист1!$C$2020:$D$2907, 2, 0), ""))), "") -> 2136560 | P26: =K26/H26 -> 3694.553 | Q26: 9673 | R26: 12.2028
A27: =IF(B27<>"",MAX(A$1:A26)+1,"") -> 12 | B27: Г. Велиж, ул. Кропоткина, д. 13/10 | C27: 1962 | D27: - | E27: кирпич | F27: 2 | G27: 1 | H27: 305.2 | I27: 0 | J27: 305.2 | K27: =SUM(L27:O27) -> 1377892.3 | L27: 0 | M27: 0 | N27: 0 | O27: =IFERROR( IF(LOOKUP(2,1/($R$16:$R27<>""),$R$16:$R27)="12.2026", VLOOKUP(LOOKUP(2,1/($B$16:$B27<>""),$B$16:$B27), [1]Лист1!$C$12:$D$1205, 2, 0), IF(LOOKUP(2,1/($R$16:$R27<>""),$R$16:$R27)="12.2027", VLOOKUP(LOOKUP(2,1/($B$16:$B27<>""),$B$16:$B27), [1]Лист1!$C$1209:$D$2016, 2, 0), IF(LOOKUP(2,1/($R$16:$R27<>""),$R$16:$R27)="12.2028", VLOOKUP(LOOKUP(2,1/($B$16:$B27<>""),$B$16:$B27), [1]Лист1!$C$2020:$D$2907, 2, 0), ""))), "") -> 1377892.3 | P27: =K27/H27 -> 4514.7193 | Q27: 9673 | R27: 12.2027
A28: =IF(B28<>"",MAX(A$1:A27)+1,"") -> 13 | B28: Г. Велиж, ул. Кропоткина, д. 23/13 | C28: 1965 | D28: - | E28: кирпич | F28: 3 | G28: 2 | H28: 1221.1 | I28: 0 | J28: 679.9 | K28: =SUM(L28:O28) -> 4719486.4 | L28: 0 | M28: 0 | N28: 0 | O28: =IFERROR( IF(LOOKUP(2,1/($R$16:$R28<>""),$R$16:$R28)="12.2026", VLOOKUP(LOOKUP(2,1/($B$16:$B28<>""),$B$16:$B28), [1]Лист1!$C$12:$D$1205, 2, 0), IF(LOOKUP(2,1/($R$16:$R28<>""),$R$16:$R28)="12.2027", VLOOKUP(LOOKUP(2,1/($B$16:$B28<>""),$B$16:$B28), [1]Лист1!$C$1209:$D$2016, 2, 0), IF(LOOKUP(2,1/($R$16:$R28<>""),$R$16:$R28)="12.2028", VLOOKUP(LOOKUP(2,1/($B$16:$B28<>""),$B$16:$B28), [1]Лист1!$C$2020:$D$2907, 2, 0), ""))), "") -> 4719486.4 | P28: =K28/H28 -> 3864.9467 | Q28: 9673 | R28: 12.2027
A29: =IF(B29<>"",MAX(A$1:A28)+1,"") -> 14 | B29: Г. Велиж, ул. Кропоткина, д. 33 | C29: 1975 | D29: - | E29: кирпич | F29: 3 | G29: 2 | H29: 745.8 | I29: 261.8 | J29: 236.42 | K29: =SUM(L29:O29) -> 4772450 | L29: 0 | M29: 0 | N29: 0 | O29: =IFERROR( IF(LOOKUP(2,1/($R$16:$R29<>""),$R$16:$R29)="12.2026", VLOOKUP(LOOKUP(2,1/($B$16:$B29<>""),$B$16:$B29), [1]Лист1!$C$12:$D$1205, 2, 0), IF(LOOKUP(2,1/($R$16:$R29<>""),$R$16:$R29)="12.2027", VLOOKUP(LOOKUP(2,1/($B$16:$B29<>""),$B$16:$B29), [1]Лист1!$C$1209:$D$2016, 2, 0), IF(LOOKUP(2,1/($R$16:$R29<>""),$R$16:$R29)="12.2028", VLOOKUP(LOOKUP(2,1/($B$16:$B29<>""),$B$16:$B29), [1]Лист1!$C$2020:$D$2907, 2, 0), ""))), "") -> 4772450 | P29: =K29/H29 -> 6399.1016 | Q29: 9673 | R29: 12.2028
A30: =IF(B30<>"",MAX(A$1:A29)+1,"") -> 15 | B30: Г. Велиж, ул. Советская, д. 13 | C30: 1949 | D30: - | E30: кирпич | F30: 2 | G30: 1 | H30: 556.7 | I30: 13 | J30: 296.6 | K30: =SUM(L30:O30) -> 6311195.5 | L30: 0 | M30: 0 | N30: 0 | O30: =IFERROR( IF(LOOKUP(2,1/($R$16:$R30<>""),$R$16:$R30)="12.2026", VLOOKUP(LOOKUP(2,1/($B$16:$B30<>""),$B$16:$B30), [1]Лист1!$C$12:$D$1205, 2, 0), IF(LOOKUP(2,1/($R$16:$R30<>""),$R$16:$R30)="12.2027", VLOOKUP(LOOKUP(2,1/($B$16:$B30<>""),$B$16:$B30), [1]Лист1!$C$1209:$D$2016, 2, 0), IF(LOOKUP(2,1/($R$16:$R30<>""),$R$16:$R30)="12.2028", VLOOKUP(LOOKUP(2,1/($B$16:$B30<>""),$B$16:$B30), [1]Лист1!$C$2020:$D$2907, 2, 0), ""))), "") -> 6311195.5 | P30: =K30/H30 -> 11336.798 | Q30: 9673 | R30: 12.2026
A31: =IF(B31<>"",MAX(A$1:A30)+1,"") -> 16 | B31: Г. Велиж, ул. Советская, д. 23/10 | C31: 1970 | D31: - | E31: кирпич | F31: 2 | G31: 1 | H31: 384.9 | I31: 196 | J31: 188.5 | K31: =SUM(L31:O31) -> 8151000.6 | L31: 0 | M31: 0 | N31: 0 | O31: =IFERROR( IF(LOOKUP(2,1/($R$16:$R31<>""),$R$16:$R31)="12.2026", VLOOKUP(LOOKUP(2,1/($B$16:$B31<>""),$B$16:$B31), [1]Лист1!$C$12:$D$1205, 2, 0), IF(LOOKUP(2,1/($R$16:$R31<>""),$R$16:$R31)="12.2027", VLOOKUP(LOOKUP(2,1/($B$16:$B31<>""),$B$16:$B31), [1]Лист1!$C$1209:$D$2016, 2, 0), IF(LOOKUP(2,1/($R$16:$R31<>""),$R$16:$R31)="12.2028", VLOOKUP(LOOKUP(2,1/($B$16:$B31<>""),$B$16:$B31), [1]Лист1!$C$2020:$D$2907, 2, 0), ""))), "") -> 8151000.6 | P31: 4100 | Q31: 9673 | R31: 12.2026
A32: =IF(B32<>"",MAX(A$1:A31)+1,"") -> 17 | B32: Г. Велиж, ул. Советская, д. 26 | C32: 1960 | D32: - | E32: кирпич | F32: 2 | G32: 1 | H32: 380.9 | I32: 0 | J32: 230.2 | K32: =SUM(L32:O32) -> 5753037.7 | L32: 0 | M32: 0 | N32: 0 | O32: =IFERROR( IF(LOOKUP(2,1/($R$16:$R32<>""),$R$16:$R32)="12.2026", VLOOKUP(LOOKUP(2,1/($B$16:$B32<>""),$B$16:$B32), [1]Лист1!$C$12:$D$1205, 2, 0), IF(LOOKUP(2,1/($R$16:$R32<>""),$R$16:$R32)="12.2027", VLOOKUP(LOOKUP(2,1/($B$16:$B32<>""),$B$16:$B32), [1]Лист1!$C$1209:$D$2016, 2, 0), IF(LOOKUP(2,1/($R$16:$R32<>""),$R$16:$R32)="12.2028", VLOOKUP(LOOKUP(2,1/($B$16:$B32<>""),$B$16:$B32), [1]Лист1!$C$2020:$D$2907, 2, 0), ""))), "") -> 5753037.7 | P32: =K32/H32 -> 15103.801 | Q32: 9673 | R32: 12.2026
A33: =IF(B33<>"",MAX(A$1:A32)+1,"") -> 18 | B33: Г. Велиж, ул. Энгельса, д. 14 | C33: 1973 | D33: - | E33: кирпич | F33: 2 | G33: 1 | H33: 320.1 | I33: 0 | J33: 320.1 | K33: =SUM(L33:O33) -> 4469570.4 | L33: 0 | M33: 0 | N33: 0 | O33: =IFERROR( IF(LOOKUP(2,1/($R$16:$R33<>""),$R$16:$R33)="12.2026", VLOOKUP(LOOKUP(2,1/($B$16:$B33<>""),$B$16:$B33), [1]Лист1!$C$12:$D$1205, 2, 0), IF(LOOKUP(2,1/($R$16:$R33<>""),$R$16:$R33)="12.2027", VLOOKUP(LOOKUP(2,1/($B$16:$B33<>""),$B$16:$B33), [1]Лист1!$C$1209:$D$2016, 2, 0), IF(LOOKUP(2,1/($R$16:$R33<>""),$R$16:$R33)="12.2028", VLOOKUP(LOOKUP(2,1/($B$16:$B33<>""),$B$16:$B33), [1]Лист1!$C$2020:$D$2907, 2, 0), ""))), "") -> 4469570.4 | P33: =K33/H33 -> 13963.044 | Q33: 9673 | R33: 12.2028
A34: =IF(B34<>"",MAX(A$1:A33)+1,"") -> 19 | B34: Г. Велиж, ул. Энгельса, д. 168 | C34: 1976 | D34: - | E34: кирпич | F34: 2 | G34: 2 | H34: 767.83 | I34: 0 | J34: 465.5 | K34: =SUM(L34:O34) -> 4841591.7 | L34: 0 | M34: 0 | N34: 0 | O34: =IFERROR( IF(LOOKUP(2,1/($R$16:$R34<>""),$R$16:$R34)="12.2026", VLOOKUP(LOOKUP(2,1/($B$16:$B34<>""),$B$16:$B34), [1]Лист1!$C$12:$D$1205, 2, 0), IF(LOOKUP(2,1/($R$16:$R34<>""),$R$16:$R34)="12.2027", VLOOKUP(LOOKUP(2,1/($B$16:$B34<>""),$B$16:$B34), [1]Лист1!$C$1209:$D$2016, 2, 0), IF(LOOKUP(2,1/($R$16:$R34<>""),$R$16:$R34)="12.2028", VLOOKUP(LOOKUP(2,1/($B$16:$B34<>""),$B$16:$B34), [1]Лист1!$C$2020:$D$2907, 2, 0), ""))), "") -> 4841591.7 | P34: =K34/H34 -> 6305.5516 | Q34: 9673 | R34: 12.2026
A35: =IF(B35<>"",MAX(A$1:A34)+1,"") -> 20 | B35: Г. Велиж, ул. Энгельса, д. 7а | C35: 1972 | D35: - | E35: кирпич | F35: 2 | G35: 1 | H35: 344.3 | I35: 0 | J35: 344.3 | K35: =SUM(L35:O35) -> 4997444.2 | L35: 0 | M35: 0 | N35: 0 | O35: =IFERROR( IF(LOOKUP(2,1/($R$16:$R35<>""),$R$16:$R35)="12.2026", VLOOKUP(LOOKUP(2,1/($B$16:$B35<>""),$B$16:$B35), [1]Лист1!$C$12:$D$1205, 2, 0), IF(LOOKUP(2,1/($R$16:$R35<>""),$R$16:$R35)="12.2027", VLOOKUP(LOOKUP(2,1/($B$16:$B35<>""),$B$16:$B35), [1]Лист1!$C$1209:$D$2016, 2, 0), IF(LOOKUP(2,1/($R$16:$R35<>""),$R$16:$R35)="12.2028", VLOOKUP(LOOKUP(2,1/($B$16:$B35<>""),$B$16:$B35), [1]Лист1!$C$2020:$D$2907, 2, 0), ""))), "") -> 4997444.2 | P35: =K35/H35 -> 14514.796 | Q35: 9673 | R35: 12.2028
A36: 2. Муниципальное образование «Вяземский муниципальный округ» Смоленской области
A37: Итого по муниципальному образованию «Вяземский муниципальный округ» Смоленской области | C37: х | D37: х | E37: х | F37: х | G37: х | H37: =SUM(H38:H264) -> 507402.54 | I37: =SUM(I38:I264) -> 31931.86 | J37: =SUM(J38:J264) -> 407792.31 | K37: =SUM(K38:K264) -> 2.2331481e+09 | L37: =SUM(L38:L264) -> 0 | M37: =SUM(M38:M264) -> 0 | N37: =SUM(N38:N264) -> 0 | O37: =SUM(O38:O264) -> 2.2331481e+09 | P37: =K37/H37 -> 4401.1371 | Q37: х | R37: х
A38: =IF(B38<>"",MAX(A$1:A37)+1,"") -> 21 | B38: Г. Вязьма, пер. Загородный, д. 2 | C38: 1998 | D38: - | E38: кирпич | F38: 9 | G38: 1 | H38: 4345 | I38: 17.9 | J38: 3173.2 | K38: =SUM(L38:O38) -> 3738272.4 | L38: 0 | M38: 0 | N38: 0 | O38: =IFERROR( IF(LOOKUP(2,1/($R$16:$R38<>""),$R$16:$R38)="12.2026", VLOOKUP(LOOKUP(2,1/($B$16:$B38<>""),$B$16:$B38), [1]Лист1!$C$12:$D$1205, 2, 0), IF(LOOKUP(2,1/($R$16:$R38<>""),$R$16:$R38)="12.2027", VLOOKUP(LOOKUP(2,1/($B$16:$B38<>""),$B$16:$B38), [1]Лист1!$C$1209:$D$2016, 2, 0), IF(LOOKUP(2,1/($R$16:$R38<>""),$R$16:$R38)="12.2028", VLOOKUP(LOOKUP(2,1/($B$16:$B38<>""),$B$16:$B38), [1]Лист1!$C$2020:$D$2907, 2, 0), ""))), "") -> 3738272.4 | P38: =K38/H38 -> 860.36189 | Q38: 9673 | R38: 12.2026
A39: =IF(B39<>"",MAX(A$1:A38)+1,"") -> 22 | B39: Г. Вязьма, пер. Загородный, д. 21 | C39: 1988 | D39: - | E39: панели | F39: 9 | G39: 2 | H39: 4840.4 | I39: 0 | J39: 3885.8 | K39: =SUM(L39:O39) -> 7247811.3 | L39: 0 | M39: 0 | N39: 0 | O39: =IFERROR( IF(LOOKUP(2,1/($R$16:$R39<>""),$R$16:$R39)="12.2026", VLOOKUP(LOOKUP(2,1/($B$16:$B39<>""),$B$16:$B39), [1]Лист1!$C$12:$D$1205, 2, 0), IF(LOOKUP(2,1/($R$16:$R39<>""),$R$16:$R39)="12.2027", VLOOKUP(LOOKUP(2,1/($B$16:$B39<>""),$B$16:$B39), [1]Лист1!$C$1209:$D$2016, 2, 0), IF(LOOKUP(2,1/($R$16:$R39<>""),$R$16:$R39)="12.2028", VLOOKUP(LOOKUP(2,1/($B$16:$B39<>""),$B$16:$B39), [1]Лист1!$C$2020:$D$2907, 2, 0), ""))), "") -> 7247811.3 | P39: =K39/H39 -> 1497.3579 | Q39: 9673 | R39: 12.2026
A40: =IF(B40<>"",MAX(A$1:A39)+1,"") -> 23 | B40: Г. Вязьма, пер. Загородный, д. 25 | C40: 1972 | D40: - | E40: кирпич | F40: 5 | G40: 6 | H40: 4488.6 | I40: 0 | J40: 4475.14 | K40: =SUM(L40:O40) -> 34655835 | L40: 0 | M40: 0 | N40: 0 | O40: =IFERROR( IF(LOOKUP(2,1/($R$16:$R40<>""),$R$16:$R40)="12.2026", VLOOKUP(LOOKUP(2,1/($B$16:$B40<>""),$B$16:$B40), [1]Лист1!$C$12:$D$1205, 2, 0), IF(LOOKUP(2,1/($R$16:$R40<>""),$R$16:$R40)="12.2027", VLOOKUP(LOOKUP(2,1/($B$16:$B40<>""),$B$16:$B40), [1]Лист1!$C$1209:$D$2016, 2, 0), IF(LOOKUP(2,1/($R$16:$R40<>""),$R$16:$R40)="12.2028", VLOOKUP(LOOKUP(2,1/($B$16:$B40<>""),$B$16:$B40), [1]Лист1!$C$2020:$D$2907, 2, 0), ""))), "") -> 34655835 | P40: =K40/H40 -> 7720.8562 | Q40: 9673 | R40: 12.2028
A41: =IF(B41<>"",MAX(A$1:A40)+1,"") -> 24 | B41: Г. Вязьма, пер. Устинкин, д. 7а | C41: 1987 | D41: - | E41: кирпич | F41: 5 | G41: 4 | H41: 3833.3 | I41: 0 | J41: 3833.3 | K41: =SUM(L41:O41) -> 5514800 | L41: 0 | M41: 0 | N41: 0 | O41: =IFERROR( IF(LOOKUP(2,1/($R$16:$R41<>""),$R$16:$R41)="12.2026", VLOOKUP(LOOKUP(2,1/($B$16:$B41<>""),$B$16:$B41), [1]Лист1!$C$12:$D$1205, 2, 0), IF(LOOKUP(2,1/($R$16:$R41<>""),$R$16:$R41)="12.2027", VLOOKUP(LOOKUP(2,1/($B$16:$B41<>""),$B$16:$B41), [1]Лист1!$C$1209:$D$2016, 2, 0), IF(LOOKUP(2,1/($R$16:$R41<>""),$R$16:$R41)="12.2028", VLOOKUP(LOOKUP(2,1/($B$16:$B41<>""),$B$16:$B41), [1]Лист1!$C$2020:$D$2907, 2, 0), ""))), "") -> 5514800 | P41: =K41/H41 -> 1438.656 | Q41: 9673 | R41: 12.2028
A42: =IF(B42<>"",MAX(A$1:A41)+1,"") -> 25 | B42: Г. Вязьма, пл. Ефремова, д. 3 | C42: 1954 | D42: - | E42: кирпич | F42: 3 | G42: 3 | H42: 2857.5 | I42: 806.69 | J42: 1822.8 | K42: =SUM(L42:O42) -> 34883.41 | L42: 0 | M42: 0 | N42: 0 | O42: =IFERROR( IF(LOOKUP(2,1/($R$16:$R42<>""),$R$16:$R42)="12.2026", VLOOKUP(LOOKUP(2,1/($B$16:$B42<>""),$B$16:$B42), [1]Лист1!$C$12:$D$1205, 2, 0), IF(LOOKUP(2,1/($R$16:$R42<>""),$R$16:$R42)="12.2027", VLOOKUP(LOOKUP(2,1/($B$16:$B42<>""),$B$16:$B42), [1]Лист1!$C$1209:$D$2016, 2, 0), IF(LOOKUP(2,1/($R$16:$R42<>""),$R$16:$R42)="12.2028", VLOOKUP(LOOKUP(2,1/($B$16:$B42<>""),$B$16:$B42), [1]Лист1!$C$2020:$D$2907, 2, 0), ""))), "") -> 34883.41 | P42: =K42/H42 -> 12.207668 | Q42: 9673 | R42: 12.2026
A43: =IF(B43<>"",MAX(A$1:A42)+1,"") -> 26 | B43: Г. Вязьма, пр. 25 Октября, д. 2 | C43: 1978 | D43: - | E43: панели | F43: 9 | G43: 4 | H43: 7430.7 | I43: 0 | J43: 7430.7 | K43: =SUM(L43:O43) -> 53906982 | L43: 0 | M43: 0 | N43: 0 | O43: =IFERROR( IF(LOOKUP(2,1/($R$16:$R43<>""),$R$16:$R43)="12.2026", VLOOKUP(LOOKUP(2,1/($B$16:$B43<>""),$B$16:$B43), [1]Лист1!$C$12:$D$1205, 2, 0), IF(LOOKUP(2,1/($R$16:$R43<>""),$R$16:$R43)="12.2027", VLOOKUP(LOOKUP(2,1/($B$16:$B43<>""),$B$16:$B43), [1]Лист1!$C$1209:$D$2016, 2, 0), IF(LOOKUP(2,1/($R$16:$R43<>""),$R$16:$R43)="12.2028", VLOOKUP(LOOKUP(2,1/($B$16:$B43<>""),$B$16:$B43), [1]Лист1!$C$2020:$D$2907, 2, 0), ""))), "") -> 53906982 | P43: =K43/H43 -> 7254.6305 | Q43: 9673 | R43: 12.2028
A44: =IF(B44<>"",MAX(A$1:A43)+1,"") -> 27 | B44: Г. Вязьма, пр. 25 Октября, д. 4 | C44: 1983 | D44: - | E44: кирпич | F44: 5 | G44: 2 | H44: 4803.68 | I44: 337.9 | J44: 3502.63 | K44: =SUM(L44:O44) -> 25136574 | L44: 0 | M44: 0 | N44: 0 | O44: =IFERROR( IF(LOOKUP(2,1/($R$16:$R44<>""),$R$16:$R44)="12.2026", VLOOKUP(LOOKUP(2,1/($B$16:$B44<>""),$B$16:$B44), [1]Лист1!$C$12:$D$1205, 2, 0), IF(LOOKUP(2,1/($R$16:$R44<>""),$R$16:$R44)="12.2027", VLOOKUP(LOOKUP(2,1/($B$16:$B44<>""),$B$16:$B44), [1]Лист1!$C$1209:$D$2016, 2, 0), IF(LOOKUP(2,1/($R$16:$R44<>""),$R$16:$R44)="12.2028", VLOOKUP(LOOKUP(2,1/($B$16:$B44<>""),$B$16:$B44), [1]Лист1!$C$2020:$D$2907, 2, 0), ""))), "") -> 25136574 | P44: =K44/H44 -> 5232.7744 | Q44: 9673 | R44: 12.2027
...
